BEGIN:VCALENDAR
VERSION:2.0
PRODID:-//Temora Lutheran Community Church - ECPv6.8.1//NONSGML v1.0//EN
CALSCALE:GREGORIAN
METHOD:PUBLISH
X-ORIGINAL-URL:https://temora-msc.lutheran.org.au
X-WR-CALDESC:Events for Temora Lutheran Community Church
REFRESH-INTERVAL;VALUE=DURATION:PT1H
X-Robots-Tag:noindex
X-PUBLISHED-TTL:PT1H
BEGIN:VTIMEZONE
TZID:Australia/Sydney
BEGIN:STANDARD
TZOFFSETFROM:+1100
TZOFFSETTO:+1000
TZNAME:AEST
DTSTART:20250405T160000
END:STANDARD
BEGIN:DAYLIGHT
TZOFFSETFROM:+1000
TZOFFSETTO:+1100
TZNAME:AEDT
DTSTART:20251004T160000
END:DAYLIGHT
END:VTIMEZONE
BEGIN:VEVENT
DTSTART;VALUE=DATE:20251224
DTEND;VALUE=DATE:20251225
DTSTAMP:20260420T040112
CREATED:20251218T231141Z
LAST-MODIFIED:20251218T231237Z
UID:10233-1766534400-1766620799@temora-msc.lutheran.org.au
SUMMARY:FoodCare Closed Today
DESCRIPTION:Holiday Hours as follows: \nFoodCare Temora: \nOPEN: Mondays 22nd and 29th December – 10am-1pm \nOpen: Thursdays 8th and 15th January – 10am-1pm \nOpen normal hours: From 21st January 2026\, Wednesdays and Thursdays – 10am-1pm \n  \nFoodCare Barmedman: \nCLOSED: from 25th December \nReopen: with normal hours on Thursdays 8th January – 10am-1pm
URL:https://temora-msc.lutheran.org.au/event/foodcare-closed-today/2025-12-24/
END:VEVENT
END:VCALENDAR