BEGIN:VCALENDAR
VERSION:2.0
PRODID:-//Temora Lutheran Community Church - ECPv6.8.1//NONSGML v1.0//EN
CALSCALE:GREGORIAN
METHOD:PUBLISH
X-ORIGINAL-URL:https://temora-msc.lutheran.org.au
X-WR-CALDESC:Events for Temora Lutheran Community Church
REFRESH-INTERVAL;VALUE=DURATION:PT1H
X-Robots-Tag:noindex
X-PUBLISHED-TTL:PT1H
BEGIN:VTIMEZONE
TZID:Australia/Sydney
BEGIN:STANDARD
TZOFFSETFROM:+1100
TZOFFSETTO:+1000
TZNAME:AEST
DTSTART:20260404T160000
END:STANDARD
BEGIN:DAYLIGHT
TZOFFSETFROM:+1000
TZOFFSETTO:+1100
TZNAME:AEDT
DTSTART:20261003T160000
END:DAYLIGHT
END:VTIMEZONE
BEGIN:VEVENT
DTSTART;TZID=Australia/Sydney:20261017T070000
DTEND;TZID=Australia/Sydney:20261017T090000
DTSTAMP:20260420T114633
CREATED:20181008T093643Z
LAST-MODIFIED:20260213T004103Z
UID:10215-1792220400-1792227600@temora-msc.lutheran.org.au
SUMMARY:Christian Men's Breakfast
DESCRIPTION:This event is hosted by various churches in the shire\, usually on the third Saturday of the month. Contact our office to find out the location of this breakfast.
URL:https://temora-msc.lutheran.org.au/event/christian-mens-breakfast/2026-10-17/
LOCATION:NSW
CATEGORIES:Men
ATTACH;FMTTYPE=image/jpeg:https://temora-msc.lutheran.org.au/wp-content/uploads/sites/2414/2018/10/dreamstime_l_19105909.jpg
END:VEVENT
BEGIN:VEVENT
DTSTART;TZID=Australia/Sydney:20261018T083000
DTEND;TZID=Australia/Sydney:20261018T093000
DTSTAMP:20260420T114633
CREATED:20180927T043915Z
LAST-MODIFIED:20260311T013207Z
UID:10057-1792312200-1792315800@temora-msc.lutheran.org.au
SUMMARY:Worship Service - Zion\, Trungley Hall
DESCRIPTION:Holy Communion usually on the 2nd\, 3rd and 4th Sundays of the month.
URL:https://temora-msc.lutheran.org.au/event/worship-service-zion-trungley-hall-2020-03-22-2020-10-18-2021-05-16/2026-10-18/
LOCATION:Trungley Hall\, 71 Schuberts Rd\, Trungley Hall\, NSW\, 2666\, Australia
CATEGORIES:Worship
GEO:-34.287965;147.548457
X-APPLE-STRUCTURED-LOCATION;VALUE=URI;X-ADDRESS=Trungley Hall 71 Schuberts Rd Trungley Hall NSW 2666 Australia;X-APPLE-RADIUS=500;X-TITLE=71 Schuberts Rd:geo:147.548457,-34.287965
END:VEVENT
BEGIN:VEVENT
DTSTART;TZID=Australia/Sydney:20261018T103000
DTEND;TZID=Australia/Sydney:20261018T113000
DTSTAMP:20260420T114633
CREATED:20180927T042925Z
LAST-MODIFIED:20180927T042925Z
UID:10144-1792319400-1792323000@temora-msc.lutheran.org.au
SUMMARY:Worship Service - Trinity\, Temora
DESCRIPTION:Holy Communion usually on the 1st\, 2nd and 4th Sundays of the month.
URL:https://temora-msc.lutheran.org.au/event/worship-service-trinity-temora-2020-03-29-2020-03-22-2020-10-18/2026-10-18/
LOCATION:Trinity Lutheran Church\, 145 Loftus St\, Termora\, NSW\, 2666\, Australia
CATEGORIES:Worship
END:VEVENT
BEGIN:VEVENT
DTSTART;TZID=Australia/Sydney:20261018T110000
DTEND;TZID=Australia/Sydney:20261018T120000
DTSTAMP:20260420T114633
CREATED:20180927T044525Z
LAST-MODIFIED:20260311T013321Z
UID:10049-1792321200-1792324800@temora-msc.lutheran.org.au
SUMMARY:Worship Service - Immanuel\, West Wyalong
DESCRIPTION:Regular Services; \nFirst Sunday of the month: 4pm \nThird Sunday of the month: 11am
URL:https://temora-msc.lutheran.org.au/event/worship-service-west-wyalong-2019-06-16-2020-03-15/2026-10-18/
LOCATION:West Wyalong\, 15 Park St\, West Wyalong\, NSW\, 2671\, Australia
CATEGORIES:WestWyalong,Worship
END:VEVENT
BEGIN:VEVENT
DTSTART;TZID=Australia/Sydney:20261021T100000
DTEND;TZID=Australia/Sydney:20261021T130000
DTSTAMP:20260420T114633
CREATED:20241212T041004Z
LAST-MODIFIED:20251218T230355Z
UID:10104-1792576800-1792587600@temora-msc.lutheran.org.au
SUMMARY:FoodCare - Temora Open
DESCRIPTION:See our FoodCare page here
URL:https://temora-msc.lutheran.org.au/event/foodcare-temora/2026-10-21/
LOCATION:FoodCare – Temora\, 262 Hoskins Street\, Temora\, NSW\, 2666\, Australia
CATEGORIES:FoodCare
GEO:-34.449332;147.5343819
X-APPLE-STRUCTURED-LOCATION;VALUE=URI;X-ADDRESS=FoodCare – Temora 262 Hoskins Street Temora NSW 2666 Australia;X-APPLE-RADIUS=500;X-TITLE=262 Hoskins Street:geo:147.5343819,-34.449332
END:VEVENT
BEGIN:VEVENT
DTSTART;TZID=Australia/Sydney:20261022T100000
DTEND;TZID=Australia/Sydney:20261022T130000
DTSTAMP:20260420T114633
CREATED:20241212T041004Z
LAST-MODIFIED:20251218T230355Z
UID:10105-1792663200-1792674000@temora-msc.lutheran.org.au
SUMMARY:FoodCare - Temora Open
DESCRIPTION:See our FoodCare page here
URL:https://temora-msc.lutheran.org.au/event/foodcare-temora/2026-10-22/
LOCATION:FoodCare – Temora\, 262 Hoskins Street\, Temora\, NSW\, 2666\, Australia
CATEGORIES:FoodCare
GEO:-34.449332;147.5343819
X-APPLE-STRUCTURED-LOCATION;VALUE=URI;X-ADDRESS=FoodCare – Temora 262 Hoskins Street Temora NSW 2666 Australia;X-APPLE-RADIUS=500;X-TITLE=262 Hoskins Street:geo:147.5343819,-34.449332
END:VEVENT
BEGIN:VEVENT
DTSTART;TZID=Australia/Sydney:20261022T100000
DTEND;TZID=Australia/Sydney:20261022T130000
DTSTAMP:20260420T114633
CREATED:20241212T042254Z
LAST-MODIFIED:20251218T225840Z
UID:10130-1792663200-1792674000@temora-msc.lutheran.org.au
SUMMARY:FoodCare - Barmedman Open
DESCRIPTION:See our FoodCare page here
URL:https://temora-msc.lutheran.org.au/event/foodcare-barmedman/2026-10-22/
LOCATION:FoodCare – Barmedman\, Queen Street 76\, Barmedman\, NSW\, 2668\, Australia
CATEGORIES:FoodCare
GEO:-34.143122;147.3860399
X-APPLE-STRUCTURED-LOCATION;VALUE=URI;X-ADDRESS=FoodCare – Barmedman Queen Street 76 Barmedman NSW 2668 Australia;X-APPLE-RADIUS=500;X-TITLE=Queen Street 76:geo:147.3860399,-34.143122
END:VEVENT
BEGIN:VEVENT
DTSTART;TZID=Australia/Sydney:20261025T083000
DTEND;TZID=Australia/Sydney:20261025T093000
DTSTAMP:20260420T114633
CREATED:20180927T043915Z
LAST-MODIFIED:20260311T013207Z
UID:10058-1792917000-1792920600@temora-msc.lutheran.org.au
SUMMARY:Worship Service - Zion\, Trungley Hall
DESCRIPTION:Holy Communion usually on the 2nd\, 3rd and 4th Sundays of the month.
URL:https://temora-msc.lutheran.org.au/event/worship-service-zion-trungley-hall-2020-03-22-2020-10-18-2021-05-16/2026-10-25/
LOCATION:Trungley Hall\, 71 Schuberts Rd\, Trungley Hall\, NSW\, 2666\, Australia
CATEGORIES:Worship
GEO:-34.287965;147.548457
X-APPLE-STRUCTURED-LOCATION;VALUE=URI;X-ADDRESS=Trungley Hall 71 Schuberts Rd Trungley Hall NSW 2666 Australia;X-APPLE-RADIUS=500;X-TITLE=71 Schuberts Rd:geo:147.548457,-34.287965
END:VEVENT
BEGIN:VEVENT
DTSTART;TZID=Australia/Sydney:20261025T103000
DTEND;TZID=Australia/Sydney:20261025T113000
DTSTAMP:20260420T114633
CREATED:20180927T042925Z
LAST-MODIFIED:20180927T042925Z
UID:10145-1792924200-1792927800@temora-msc.lutheran.org.au
SUMMARY:Worship Service - Trinity\, Temora
DESCRIPTION:Holy Communion usually on the 1st\, 2nd and 4th Sundays of the month.
URL:https://temora-msc.lutheran.org.au/event/worship-service-trinity-temora-2020-03-29-2020-03-22-2020-10-18/2026-10-25/
LOCATION:Trinity Lutheran Church\, 145 Loftus St\, Termora\, NSW\, 2666\, Australia
CATEGORIES:Worship
END:VEVENT
BEGIN:VEVENT
DTSTART;TZID=Australia/Sydney:20261028T100000
DTEND;TZID=Australia/Sydney:20261028T130000
DTSTAMP:20260420T114633
CREATED:20241212T041004Z
LAST-MODIFIED:20251218T230356Z
UID:10106-1793181600-1793192400@temora-msc.lutheran.org.au
SUMMARY:FoodCare - Temora Open
DESCRIPTION:See our FoodCare page here
URL:https://temora-msc.lutheran.org.au/event/foodcare-temora/2026-10-28/
LOCATION:FoodCare – Temora\, 262 Hoskins Street\, Temora\, NSW\, 2666\, Australia
CATEGORIES:FoodCare
GEO:-34.449332;147.5343819
X-APPLE-STRUCTURED-LOCATION;VALUE=URI;X-ADDRESS=FoodCare – Temora 262 Hoskins Street Temora NSW 2666 Australia;X-APPLE-RADIUS=500;X-TITLE=262 Hoskins Street:geo:147.5343819,-34.449332
END:VEVENT
BEGIN:VEVENT
DTSTART;TZID=Australia/Sydney:20261029T100000
DTEND;TZID=Australia/Sydney:20261029T130000
DTSTAMP:20260420T114633
CREATED:20241212T041004Z
LAST-MODIFIED:20251218T230356Z
UID:10107-1793268000-1793278800@temora-msc.lutheran.org.au
SUMMARY:FoodCare - Temora Open
DESCRIPTION:See our FoodCare page here
URL:https://temora-msc.lutheran.org.au/event/foodcare-temora/2026-10-29/
LOCATION:FoodCare – Temora\, 262 Hoskins Street\, Temora\, NSW\, 2666\, Australia
CATEGORIES:FoodCare
GEO:-34.449332;147.5343819
X-APPLE-STRUCTURED-LOCATION;VALUE=URI;X-ADDRESS=FoodCare – Temora 262 Hoskins Street Temora NSW 2666 Australia;X-APPLE-RADIUS=500;X-TITLE=262 Hoskins Street:geo:147.5343819,-34.449332
END:VEVENT
BEGIN:VEVENT
DTSTART;TZID=Australia/Sydney:20261029T100000
DTEND;TZID=Australia/Sydney:20261029T130000
DTSTAMP:20260420T114633
CREATED:20241212T042254Z
LAST-MODIFIED:20251218T225840Z
UID:10131-1793268000-1793278800@temora-msc.lutheran.org.au
SUMMARY:FoodCare - Barmedman Open
DESCRIPTION:See our FoodCare page here
URL:https://temora-msc.lutheran.org.au/event/foodcare-barmedman/2026-10-29/
LOCATION:FoodCare – Barmedman\, Queen Street 76\, Barmedman\, NSW\, 2668\, Australia
CATEGORIES:FoodCare
GEO:-34.143122;147.3860399
X-APPLE-STRUCTURED-LOCATION;VALUE=URI;X-ADDRESS=FoodCare – Barmedman Queen Street 76 Barmedman NSW 2668 Australia;X-APPLE-RADIUS=500;X-TITLE=Queen Street 76:geo:147.3860399,-34.143122
END:VEVENT
BEGIN:VEVENT
DTSTART;TZID=Australia/Sydney:20261101T083000
DTEND;TZID=Australia/Sydney:20261101T093000
DTSTAMP:20260420T114633
CREATED:20180927T043915Z
LAST-MODIFIED:20260311T013207Z
UID:10059-1793521800-1793525400@temora-msc.lutheran.org.au
SUMMARY:Worship Service - Zion\, Trungley Hall
DESCRIPTION:Holy Communion usually on the 2nd\, 3rd and 4th Sundays of the month.
URL:https://temora-msc.lutheran.org.au/event/worship-service-zion-trungley-hall-2020-03-22-2020-10-18-2021-05-16/2026-11-01/
LOCATION:Trungley Hall\, 71 Schuberts Rd\, Trungley Hall\, NSW\, 2666\, Australia
CATEGORIES:Worship
GEO:-34.287965;147.548457
X-APPLE-STRUCTURED-LOCATION;VALUE=URI;X-ADDRESS=Trungley Hall 71 Schuberts Rd Trungley Hall NSW 2666 Australia;X-APPLE-RADIUS=500;X-TITLE=71 Schuberts Rd:geo:147.548457,-34.287965
END:VEVENT
BEGIN:VEVENT
DTSTART;TZID=Australia/Sydney:20261101T103000
DTEND;TZID=Australia/Sydney:20261101T113000
DTSTAMP:20260420T114633
CREATED:20180927T042925Z
LAST-MODIFIED:20180927T042925Z
UID:10146-1793529000-1793532600@temora-msc.lutheran.org.au
SUMMARY:Worship Service - Trinity\, Temora
DESCRIPTION:Holy Communion usually on the 1st\, 2nd and 4th Sundays of the month.
URL:https://temora-msc.lutheran.org.au/event/worship-service-trinity-temora-2020-03-29-2020-03-22-2020-10-18/2026-11-01/
LOCATION:Trinity Lutheran Church\, 145 Loftus St\, Termora\, NSW\, 2666\, Australia
CATEGORIES:Worship
END:VEVENT
BEGIN:VEVENT
DTSTART;TZID=Australia/Sydney:20261101T160000
DTEND;TZID=Australia/Sydney:20261101T170000
DTSTAMP:20260420T114633
CREATED:20180927T044525Z
LAST-MODIFIED:20260311T013321Z
UID:10050-1793548800-1793552400@temora-msc.lutheran.org.au
SUMMARY:Worship Service - Immanuel\, West Wyalong
DESCRIPTION:Regular Services; \nFirst Sunday of the month: 4pm \nThird Sunday of the month: 11am
URL:https://temora-msc.lutheran.org.au/event/worship-service-west-wyalong-2019-06-16-2020-03-15/2026-11-01/
LOCATION:West Wyalong\, 15 Park St\, West Wyalong\, NSW\, 2671\, Australia
CATEGORIES:WestWyalong,Worship
END:VEVENT
BEGIN:VEVENT
DTSTART;TZID=Australia/Sydney:20261104T100000
DTEND;TZID=Australia/Sydney:20261104T130000
DTSTAMP:20260420T114633
CREATED:20241212T041004Z
LAST-MODIFIED:20251218T230356Z
UID:10108-1793786400-1793797200@temora-msc.lutheran.org.au
SUMMARY:FoodCare - Temora Open
DESCRIPTION:See our FoodCare page here
URL:https://temora-msc.lutheran.org.au/event/foodcare-temora/2026-11-04/
LOCATION:FoodCare – Temora\, 262 Hoskins Street\, Temora\, NSW\, 2666\, Australia
CATEGORIES:FoodCare
GEO:-34.449332;147.5343819
X-APPLE-STRUCTURED-LOCATION;VALUE=URI;X-ADDRESS=FoodCare – Temora 262 Hoskins Street Temora NSW 2666 Australia;X-APPLE-RADIUS=500;X-TITLE=262 Hoskins Street:geo:147.5343819,-34.449332
END:VEVENT
BEGIN:VEVENT
DTSTART;TZID=Australia/Sydney:20261105T100000
DTEND;TZID=Australia/Sydney:20261105T130000
DTSTAMP:20260420T114633
CREATED:20241212T041004Z
LAST-MODIFIED:20251218T230356Z
UID:10109-1793872800-1793883600@temora-msc.lutheran.org.au
SUMMARY:FoodCare - Temora Open
DESCRIPTION:See our FoodCare page here
URL:https://temora-msc.lutheran.org.au/event/foodcare-temora/2026-11-05/
LOCATION:FoodCare – Temora\, 262 Hoskins Street\, Temora\, NSW\, 2666\, Australia
CATEGORIES:FoodCare
GEO:-34.449332;147.5343819
X-APPLE-STRUCTURED-LOCATION;VALUE=URI;X-ADDRESS=FoodCare – Temora 262 Hoskins Street Temora NSW 2666 Australia;X-APPLE-RADIUS=500;X-TITLE=262 Hoskins Street:geo:147.5343819,-34.449332
END:VEVENT
BEGIN:VEVENT
DTSTART;TZID=Australia/Sydney:20261105T100000
DTEND;TZID=Australia/Sydney:20261105T130000
DTSTAMP:20260420T114633
CREATED:20241212T042254Z
LAST-MODIFIED:20251218T225840Z
UID:10132-1793872800-1793883600@temora-msc.lutheran.org.au
SUMMARY:FoodCare - Barmedman Open
DESCRIPTION:See our FoodCare page here
URL:https://temora-msc.lutheran.org.au/event/foodcare-barmedman/2026-11-05/
LOCATION:FoodCare – Barmedman\, Queen Street 76\, Barmedman\, NSW\, 2668\, Australia
CATEGORIES:FoodCare
GEO:-34.143122;147.3860399
X-APPLE-STRUCTURED-LOCATION;VALUE=URI;X-ADDRESS=FoodCare – Barmedman Queen Street 76 Barmedman NSW 2668 Australia;X-APPLE-RADIUS=500;X-TITLE=Queen Street 76:geo:147.3860399,-34.143122
END:VEVENT
BEGIN:VEVENT
DTSTART;TZID=Australia/Sydney:20261108T083000
DTEND;TZID=Australia/Sydney:20261108T093000
DTSTAMP:20260420T114633
CREATED:20190306T051829Z
LAST-MODIFIED:20190306T051829Z
UID:10288-1794126600-1794130200@temora-msc.lutheran.org.au
SUMMARY:Intergenerational GROW Service - Trungley Hall
DESCRIPTION:
URL:https://temora-msc.lutheran.org.au/event/intergenerational-grow-service-trungley-hall-2020-03-08/2026-11-08/
LOCATION:Trungley Hall\, 71 Schuberts Rd\, Trungley Hall\, NSW\, 2666\, Australia
CATEGORIES:Intergenerational,Worship
GEO:-34.287965;147.548457
X-APPLE-STRUCTURED-LOCATION;VALUE=URI;X-ADDRESS=Trungley Hall 71 Schuberts Rd Trungley Hall NSW 2666 Australia;X-APPLE-RADIUS=500;X-TITLE=71 Schuberts Rd:geo:147.548457,-34.287965
END:VEVENT
BEGIN:VEVENT
DTSTART;TZID=Australia/Sydney:20261108T103000
DTEND;TZID=Australia/Sydney:20261108T113000
DTSTAMP:20260420T114633
CREATED:20190316T051141Z
LAST-MODIFIED:20190316T051141Z
UID:10211-1794133800-1794137400@temora-msc.lutheran.org.au
SUMMARY:Intergenerational GROW Service - Trinity
DESCRIPTION:
URL:https://temora-msc.lutheran.org.au/event/intergenerational-grow-service-trinity/2026-11-08/
LOCATION:Trinity Lutheran Church\, 145 Loftus St\, Termora\, NSW\, 2666\, Australia
CATEGORIES:Intergenerational,Worship
ORGANIZER;CN="Pastor Darren":MAILTO:Darren.kupke@lca.org.au
END:VEVENT
BEGIN:VEVENT
DTSTART;TZID=Australia/Sydney:20261111T100000
DTEND;TZID=Australia/Sydney:20261111T130000
DTSTAMP:20260420T114633
CREATED:20241212T041004Z
LAST-MODIFIED:20251218T230356Z
UID:10110-1794391200-1794402000@temora-msc.lutheran.org.au
SUMMARY:FoodCare - Temora Open
DESCRIPTION:See our FoodCare page here
URL:https://temora-msc.lutheran.org.au/event/foodcare-temora/2026-11-11/
LOCATION:FoodCare – Temora\, 262 Hoskins Street\, Temora\, NSW\, 2666\, Australia
CATEGORIES:FoodCare
GEO:-34.449332;147.5343819
X-APPLE-STRUCTURED-LOCATION;VALUE=URI;X-ADDRESS=FoodCare – Temora 262 Hoskins Street Temora NSW 2666 Australia;X-APPLE-RADIUS=500;X-TITLE=262 Hoskins Street:geo:147.5343819,-34.449332
END:VEVENT
BEGIN:VEVENT
DTSTART;TZID=Australia/Sydney:20261112T100000
DTEND;TZID=Australia/Sydney:20261112T130000
DTSTAMP:20260420T114633
CREATED:20241212T041004Z
LAST-MODIFIED:20251218T230356Z
UID:10111-1794477600-1794488400@temora-msc.lutheran.org.au
SUMMARY:FoodCare - Temora Open
DESCRIPTION:See our FoodCare page here
URL:https://temora-msc.lutheran.org.au/event/foodcare-temora/2026-11-12/
LOCATION:FoodCare – Temora\, 262 Hoskins Street\, Temora\, NSW\, 2666\, Australia
CATEGORIES:FoodCare
GEO:-34.449332;147.5343819
X-APPLE-STRUCTURED-LOCATION;VALUE=URI;X-ADDRESS=FoodCare – Temora 262 Hoskins Street Temora NSW 2666 Australia;X-APPLE-RADIUS=500;X-TITLE=262 Hoskins Street:geo:147.5343819,-34.449332
END:VEVENT
BEGIN:VEVENT
DTSTART;TZID=Australia/Sydney:20261112T100000
DTEND;TZID=Australia/Sydney:20261112T130000
DTSTAMP:20260420T114633
CREATED:20241212T042254Z
LAST-MODIFIED:20251218T225841Z
UID:10133-1794477600-1794488400@temora-msc.lutheran.org.au
SUMMARY:FoodCare - Barmedman Open
DESCRIPTION:See our FoodCare page here
URL:https://temora-msc.lutheran.org.au/event/foodcare-barmedman/2026-11-12/
LOCATION:FoodCare – Barmedman\, Queen Street 76\, Barmedman\, NSW\, 2668\, Australia
CATEGORIES:FoodCare
GEO:-34.143122;147.3860399
X-APPLE-STRUCTURED-LOCATION;VALUE=URI;X-ADDRESS=FoodCare – Barmedman Queen Street 76 Barmedman NSW 2668 Australia;X-APPLE-RADIUS=500;X-TITLE=Queen Street 76:geo:147.3860399,-34.143122
END:VEVENT
BEGIN:VEVENT
DTSTART;TZID=Australia/Sydney:20261115T083000
DTEND;TZID=Australia/Sydney:20261115T093000
DTSTAMP:20260420T114633
CREATED:20180927T043915Z
LAST-MODIFIED:20260311T013207Z
UID:10060-1794731400-1794735000@temora-msc.lutheran.org.au
SUMMARY:Worship Service - Zion\, Trungley Hall
DESCRIPTION:Holy Communion usually on the 2nd\, 3rd and 4th Sundays of the month.
URL:https://temora-msc.lutheran.org.au/event/worship-service-zion-trungley-hall-2020-03-22-2020-10-18-2021-05-16/2026-11-15/
LOCATION:Trungley Hall\, 71 Schuberts Rd\, Trungley Hall\, NSW\, 2666\, Australia
CATEGORIES:Worship
GEO:-34.287965;147.548457
X-APPLE-STRUCTURED-LOCATION;VALUE=URI;X-ADDRESS=Trungley Hall 71 Schuberts Rd Trungley Hall NSW 2666 Australia;X-APPLE-RADIUS=500;X-TITLE=71 Schuberts Rd:geo:147.548457,-34.287965
END:VEVENT
BEGIN:VEVENT
DTSTART;TZID=Australia/Sydney:20261115T103000
DTEND;TZID=Australia/Sydney:20261115T113000
DTSTAMP:20260420T114633
CREATED:20180927T042925Z
LAST-MODIFIED:20180927T042925Z
UID:10147-1794738600-1794742200@temora-msc.lutheran.org.au
SUMMARY:Worship Service - Trinity\, Temora
DESCRIPTION:Holy Communion usually on the 1st\, 2nd and 4th Sundays of the month.
URL:https://temora-msc.lutheran.org.au/event/worship-service-trinity-temora-2020-03-29-2020-03-22-2020-10-18/2026-11-15/
LOCATION:Trinity Lutheran Church\, 145 Loftus St\, Termora\, NSW\, 2666\, Australia
CATEGORIES:Worship
END:VEVENT
BEGIN:VEVENT
DTSTART;TZID=Australia/Sydney:20261115T110000
DTEND;TZID=Australia/Sydney:20261115T120000
DTSTAMP:20260420T114633
CREATED:20180927T044525Z
LAST-MODIFIED:20260311T013321Z
UID:10051-1794740400-1794744000@temora-msc.lutheran.org.au
SUMMARY:Worship Service - Immanuel\, West Wyalong
DESCRIPTION:Regular Services; \nFirst Sunday of the month: 4pm \nThird Sunday of the month: 11am
URL:https://temora-msc.lutheran.org.au/event/worship-service-west-wyalong-2019-06-16-2020-03-15/2026-11-15/
LOCATION:West Wyalong\, 15 Park St\, West Wyalong\, NSW\, 2671\, Australia
CATEGORIES:WestWyalong,Worship
END:VEVENT
BEGIN:VEVENT
DTSTART;TZID=Australia/Sydney:20261118T100000
DTEND;TZID=Australia/Sydney:20261118T130000
DTSTAMP:20260420T114633
CREATED:20241212T041004Z
LAST-MODIFIED:20251218T230356Z
UID:10112-1794996000-1795006800@temora-msc.lutheran.org.au
SUMMARY:FoodCare - Temora Open
DESCRIPTION:See our FoodCare page here
URL:https://temora-msc.lutheran.org.au/event/foodcare-temora/2026-11-18/
LOCATION:FoodCare – Temora\, 262 Hoskins Street\, Temora\, NSW\, 2666\, Australia
CATEGORIES:FoodCare
GEO:-34.449332;147.5343819
X-APPLE-STRUCTURED-LOCATION;VALUE=URI;X-ADDRESS=FoodCare – Temora 262 Hoskins Street Temora NSW 2666 Australia;X-APPLE-RADIUS=500;X-TITLE=262 Hoskins Street:geo:147.5343819,-34.449332
END:VEVENT
BEGIN:VEVENT
DTSTART;TZID=Australia/Sydney:20261119T100000
DTEND;TZID=Australia/Sydney:20261119T130000
DTSTAMP:20260420T114633
CREATED:20241212T041004Z
LAST-MODIFIED:20251218T230356Z
UID:10113-1795082400-1795093200@temora-msc.lutheran.org.au
SUMMARY:FoodCare - Temora Open
DESCRIPTION:See our FoodCare page here
URL:https://temora-msc.lutheran.org.au/event/foodcare-temora/2026-11-19/
LOCATION:FoodCare – Temora\, 262 Hoskins Street\, Temora\, NSW\, 2666\, Australia
CATEGORIES:FoodCare
GEO:-34.449332;147.5343819
X-APPLE-STRUCTURED-LOCATION;VALUE=URI;X-ADDRESS=FoodCare – Temora 262 Hoskins Street Temora NSW 2666 Australia;X-APPLE-RADIUS=500;X-TITLE=262 Hoskins Street:geo:147.5343819,-34.449332
END:VEVENT
BEGIN:VEVENT
DTSTART;TZID=Australia/Sydney:20261119T100000
DTEND;TZID=Australia/Sydney:20261119T130000
DTSTAMP:20260420T114633
CREATED:20241212T042254Z
LAST-MODIFIED:20251218T225841Z
UID:10134-1795082400-1795093200@temora-msc.lutheran.org.au
SUMMARY:FoodCare - Barmedman Open
DESCRIPTION:See our FoodCare page here
URL:https://temora-msc.lutheran.org.au/event/foodcare-barmedman/2026-11-19/
LOCATION:FoodCare – Barmedman\, Queen Street 76\, Barmedman\, NSW\, 2668\, Australia
CATEGORIES:FoodCare
GEO:-34.143122;147.3860399
X-APPLE-STRUCTURED-LOCATION;VALUE=URI;X-ADDRESS=FoodCare – Barmedman Queen Street 76 Barmedman NSW 2668 Australia;X-APPLE-RADIUS=500;X-TITLE=Queen Street 76:geo:147.3860399,-34.143122
END:VEVENT
BEGIN:VEVENT
DTSTART;TZID=Australia/Sydney:20261121T070000
DTEND;TZID=Australia/Sydney:20261121T090000
DTSTAMP:20260420T114633
CREATED:20181008T093643Z
LAST-MODIFIED:20260213T004103Z
UID:10216-1795244400-1795251600@temora-msc.lutheran.org.au
SUMMARY:Christian Men's Breakfast
DESCRIPTION:This event is hosted by various churches in the shire\, usually on the third Saturday of the month. Contact our office to find out the location of this breakfast.
URL:https://temora-msc.lutheran.org.au/event/christian-mens-breakfast/2026-11-21/
LOCATION:NSW
CATEGORIES:Men
ATTACH;FMTTYPE=image/jpeg:https://temora-msc.lutheran.org.au/wp-content/uploads/sites/2414/2018/10/dreamstime_l_19105909.jpg
END:VEVENT
END:VCALENDAR