BEGIN:VCALENDAR
VERSION:2.0
PRODID:-//Temora Lutheran Community Church - ECPv6.8.1//NONSGML v1.0//EN
CALSCALE:GREGORIAN
METHOD:PUBLISH
X-ORIGINAL-URL:https://temora-msc.lutheran.org.au
X-WR-CALDESC:Events for Temora Lutheran Community Church
REFRESH-INTERVAL;VALUE=DURATION:PT1H
X-Robots-Tag:noindex
X-PUBLISHED-TTL:PT1H
BEGIN:VTIMEZONE
TZID:Australia/Sydney
BEGIN:STANDARD
TZOFFSETFROM:+1100
TZOFFSETTO:+1000
TZNAME:AEST
DTSTART:20260404T160000
END:STANDARD
BEGIN:DAYLIGHT
TZOFFSETFROM:+1000
TZOFFSETTO:+1100
TZNAME:AEDT
DTSTART:20261003T160000
END:DAYLIGHT
BEGIN:STANDARD
TZOFFSETFROM:+1100
TZOFFSETTO:+1000
TZNAME:AEST
DTSTART:20270403T160000
END:STANDARD
BEGIN:DAYLIGHT
TZOFFSETFROM:+1000
TZOFFSETTO:+1100
TZNAME:AEDT
DTSTART:20271002T160000
END:DAYLIGHT
END:VTIMEZONE
BEGIN:VEVENT
DTSTART;TZID=Australia/Sydney:20261225T093000
DTEND;TZID=Australia/Sydney:20261225T103000
DTSTAMP:20260421T005828
CREATED:20241212T042845Z
LAST-MODIFIED:20241212T042845Z
UID:10333-1798191000-1798194600@temora-msc.lutheran.org.au
SUMMARY:Christmas Day Service - Trinity\, Temora
DESCRIPTION:
URL:https://temora-msc.lutheran.org.au/event/christmas-day-service-trinity-temora/2026-12-25/
LOCATION:Trinity Lutheran Church\, 145 Loftus St\, Termora\, NSW\, 2666\, Australia
CATEGORIES:Worship
END:VEVENT
BEGIN:VEVENT
DTSTART;TZID=Australia/Sydney:20261227T083000
DTEND;TZID=Australia/Sydney:20261227T093000
DTSTAMP:20260421T005828
CREATED:20180927T043915Z
LAST-MODIFIED:20260311T013132Z
UID:10310-1798360200-1798363800@temora-msc.lutheran.org.au
SUMMARY:Worship Service - Zion\, Trungley Hall
DESCRIPTION:Holy Communion usually on the 2nd\, 3rd and 4th Sundays of the month.
URL:https://temora-msc.lutheran.org.au/event/worship-service-zion-trungley-hall-2020-03-22-2020-10-18-2021-05-16/2026-12-27/
LOCATION:Trungley Hall\, 71 Schuberts Rd\, Trungley Hall\, NSW\, 2666\, Australia
CATEGORIES:Worship
GEO:-34.287965;147.548457
X-APPLE-STRUCTURED-LOCATION;VALUE=URI;X-ADDRESS=Trungley Hall 71 Schuberts Rd Trungley Hall NSW 2666 Australia;X-APPLE-RADIUS=500;X-TITLE=71 Schuberts Rd:geo:147.548457,-34.287965
END:VEVENT
BEGIN:VEVENT
DTSTART;TZID=Australia/Sydney:20261227T103000
DTEND;TZID=Australia/Sydney:20261227T113000
DTSTAMP:20260421T005828
CREATED:20180927T042925Z
LAST-MODIFIED:20180927T042925Z
UID:10305-1798367400-1798371000@temora-msc.lutheran.org.au
SUMMARY:Worship Service - Trinity\, Temora
DESCRIPTION:Holy Communion usually on the 1st\, 2nd and 4th Sundays of the month.
URL:https://temora-msc.lutheran.org.au/event/worship-service-trinity-temora-2020-03-29-2020-03-22-2020-10-18/2026-12-27/
LOCATION:Trinity Lutheran Church\, 145 Loftus St\, Termora\, NSW\, 2666\, Australia
CATEGORIES:Worship
END:VEVENT
BEGIN:VEVENT
DTSTART;TZID=Australia/Sydney:20261230T100000
DTEND;TZID=Australia/Sydney:20261230T130000
DTSTAMP:20260421T005828
CREATED:20241212T041004Z
LAST-MODIFIED:20241212T041004Z
UID:10316-1798624800-1798635600@temora-msc.lutheran.org.au
SUMMARY:FoodCare - Temora Open
DESCRIPTION:See our FoodCare page here
URL:https://temora-msc.lutheran.org.au/event/foodcare-temora/2026-12-30/
LOCATION:FoodCare – Temora\, 262 Hoskins Street\, Temora\, NSW\, 2666\, Australia
CATEGORIES:FoodCare
GEO:-34.449332;147.5343819
X-APPLE-STRUCTURED-LOCATION;VALUE=URI;X-ADDRESS=FoodCare – Temora 262 Hoskins Street Temora NSW 2666 Australia;X-APPLE-RADIUS=500;X-TITLE=262 Hoskins Street:geo:147.5343819,-34.449332
END:VEVENT
BEGIN:VEVENT
DTSTART;TZID=Australia/Sydney:20261231T100000
DTEND;TZID=Australia/Sydney:20261231T130000
DTSTAMP:20260421T005828
CREATED:20241212T041004Z
LAST-MODIFIED:20241212T041004Z
UID:10317-1798711200-1798722000@temora-msc.lutheran.org.au
SUMMARY:FoodCare - Temora Open
DESCRIPTION:See our FoodCare page here
URL:https://temora-msc.lutheran.org.au/event/foodcare-temora/2026-12-31/
LOCATION:FoodCare – Temora\, 262 Hoskins Street\, Temora\, NSW\, 2666\, Australia
CATEGORIES:FoodCare
GEO:-34.449332;147.5343819
X-APPLE-STRUCTURED-LOCATION;VALUE=URI;X-ADDRESS=FoodCare – Temora 262 Hoskins Street Temora NSW 2666 Australia;X-APPLE-RADIUS=500;X-TITLE=262 Hoskins Street:geo:147.5343819,-34.449332
END:VEVENT
BEGIN:VEVENT
DTSTART;TZID=Australia/Sydney:20261231T100000
DTEND;TZID=Australia/Sydney:20261231T130000
DTSTAMP:20260421T005828
CREATED:20241212T042254Z
LAST-MODIFIED:20241212T042254Z
UID:10328-1798711200-1798722000@temora-msc.lutheran.org.au
SUMMARY:FoodCare - Barmedman Open
DESCRIPTION:See our FoodCare page here
URL:https://temora-msc.lutheran.org.au/event/foodcare-barmedman/2026-12-31/
LOCATION:FoodCare – Barmedman\, Queen Street 76\, Barmedman\, NSW\, 2668\, Australia
CATEGORIES:FoodCare
GEO:-34.143122;147.3860399
X-APPLE-STRUCTURED-LOCATION;VALUE=URI;X-ADDRESS=FoodCare – Barmedman Queen Street 76 Barmedman NSW 2668 Australia;X-APPLE-RADIUS=500;X-TITLE=Queen Street 76:geo:147.3860399,-34.143122
END:VEVENT
BEGIN:VEVENT
DTSTART;TZID=Australia/Sydney:20270103T083000
DTEND;TZID=Australia/Sydney:20270103T093000
DTSTAMP:20260421T005828
CREATED:20180927T043915Z
LAST-MODIFIED:20260311T013132Z
UID:10311-1798965000-1798968600@temora-msc.lutheran.org.au
SUMMARY:Worship Service - Zion\, Trungley Hall
DESCRIPTION:Holy Communion usually on the 2nd\, 3rd and 4th Sundays of the month.
URL:https://temora-msc.lutheran.org.au/event/worship-service-zion-trungley-hall-2020-03-22-2020-10-18-2021-05-16/2027-01-03/
LOCATION:Trungley Hall\, 71 Schuberts Rd\, Trungley Hall\, NSW\, 2666\, Australia
CATEGORIES:Worship
GEO:-34.287965;147.548457
X-APPLE-STRUCTURED-LOCATION;VALUE=URI;X-ADDRESS=Trungley Hall 71 Schuberts Rd Trungley Hall NSW 2666 Australia;X-APPLE-RADIUS=500;X-TITLE=71 Schuberts Rd:geo:147.548457,-34.287965
END:VEVENT
BEGIN:VEVENT
DTSTART;TZID=Australia/Sydney:20270103T103000
DTEND;TZID=Australia/Sydney:20270103T113000
DTSTAMP:20260421T005828
CREATED:20180927T042925Z
LAST-MODIFIED:20180927T042925Z
UID:10306-1798972200-1798975800@temora-msc.lutheran.org.au
SUMMARY:Worship Service - Trinity\, Temora
DESCRIPTION:Holy Communion usually on the 1st\, 2nd and 4th Sundays of the month.
URL:https://temora-msc.lutheran.org.au/event/worship-service-trinity-temora-2020-03-29-2020-03-22-2020-10-18/2027-01-03/
LOCATION:Trinity Lutheran Church\, 145 Loftus St\, Termora\, NSW\, 2666\, Australia
CATEGORIES:Worship
END:VEVENT
BEGIN:VEVENT
DTSTART;TZID=Australia/Sydney:20270103T160000
DTEND;TZID=Australia/Sydney:20270103T170000
DTSTAMP:20260421T005828
CREATED:20180927T044525Z
LAST-MODIFIED:20260311T013321Z
UID:10300-1798992000-1798995600@temora-msc.lutheran.org.au
SUMMARY:Worship Service - Immanuel\, West Wyalong
DESCRIPTION:Regular Services; \nFirst Sunday of the month: 4pm \nThird Sunday of the month: 11am
URL:https://temora-msc.lutheran.org.au/event/worship-service-west-wyalong-2019-06-16-2020-03-15/2027-01-03/
LOCATION:West Wyalong\, 15 Park St\, West Wyalong\, NSW\, 2671\, Australia
CATEGORIES:WestWyalong,Worship
END:VEVENT
BEGIN:VEVENT
DTSTART;TZID=Australia/Sydney:20270106T100000
DTEND;TZID=Australia/Sydney:20270106T130000
DTSTAMP:20260421T005828
CREATED:20241212T041004Z
LAST-MODIFIED:20241212T041004Z
UID:10318-1799229600-1799240400@temora-msc.lutheran.org.au
SUMMARY:FoodCare - Temora Open
DESCRIPTION:See our FoodCare page here
URL:https://temora-msc.lutheran.org.au/event/foodcare-temora/2027-01-06/
LOCATION:FoodCare – Temora\, 262 Hoskins Street\, Temora\, NSW\, 2666\, Australia
CATEGORIES:FoodCare
GEO:-34.449332;147.5343819
X-APPLE-STRUCTURED-LOCATION;VALUE=URI;X-ADDRESS=FoodCare – Temora 262 Hoskins Street Temora NSW 2666 Australia;X-APPLE-RADIUS=500;X-TITLE=262 Hoskins Street:geo:147.5343819,-34.449332
END:VEVENT
BEGIN:VEVENT
DTSTART;TZID=Australia/Sydney:20270107T100000
DTEND;TZID=Australia/Sydney:20270107T130000
DTSTAMP:20260421T005828
CREATED:20241212T041004Z
LAST-MODIFIED:20241212T041004Z
UID:10319-1799316000-1799326800@temora-msc.lutheran.org.au
SUMMARY:FoodCare - Temora Open
DESCRIPTION:See our FoodCare page here
URL:https://temora-msc.lutheran.org.au/event/foodcare-temora/2027-01-07/
LOCATION:FoodCare – Temora\, 262 Hoskins Street\, Temora\, NSW\, 2666\, Australia
CATEGORIES:FoodCare
GEO:-34.449332;147.5343819
X-APPLE-STRUCTURED-LOCATION;VALUE=URI;X-ADDRESS=FoodCare – Temora 262 Hoskins Street Temora NSW 2666 Australia;X-APPLE-RADIUS=500;X-TITLE=262 Hoskins Street:geo:147.5343819,-34.449332
END:VEVENT
BEGIN:VEVENT
DTSTART;TZID=Australia/Sydney:20270107T100000
DTEND;TZID=Australia/Sydney:20270107T130000
DTSTAMP:20260421T005828
CREATED:20241212T042254Z
LAST-MODIFIED:20241212T042254Z
UID:10329-1799316000-1799326800@temora-msc.lutheran.org.au
SUMMARY:FoodCare - Barmedman Open
DESCRIPTION:See our FoodCare page here
URL:https://temora-msc.lutheran.org.au/event/foodcare-barmedman/2027-01-07/
LOCATION:FoodCare – Barmedman\, Queen Street 76\, Barmedman\, NSW\, 2668\, Australia
CATEGORIES:FoodCare
GEO:-34.143122;147.3860399
X-APPLE-STRUCTURED-LOCATION;VALUE=URI;X-ADDRESS=FoodCare – Barmedman Queen Street 76 Barmedman NSW 2668 Australia;X-APPLE-RADIUS=500;X-TITLE=Queen Street 76:geo:147.3860399,-34.143122
END:VEVENT
BEGIN:VEVENT
DTSTART;TZID=Australia/Sydney:20270110T083000
DTEND;TZID=Australia/Sydney:20270110T093000
DTSTAMP:20260421T005828
CREATED:20190306T051829Z
LAST-MODIFIED:20190306T051829Z
UID:10303-1799569800-1799573400@temora-msc.lutheran.org.au
SUMMARY:Intergenerational GROW Service - Trungley Hall
DESCRIPTION:
URL:https://temora-msc.lutheran.org.au/event/intergenerational-grow-service-trungley-hall-2020-03-08/2027-01-10/
LOCATION:Trungley Hall\, 71 Schuberts Rd\, Trungley Hall\, NSW\, 2666\, Australia
CATEGORIES:Intergenerational,Worship
GEO:-34.287965;147.548457
X-APPLE-STRUCTURED-LOCATION;VALUE=URI;X-ADDRESS=Trungley Hall 71 Schuberts Rd Trungley Hall NSW 2666 Australia;X-APPLE-RADIUS=500;X-TITLE=71 Schuberts Rd:geo:147.548457,-34.287965
END:VEVENT
BEGIN:VEVENT
DTSTART;TZID=Australia/Sydney:20270110T103000
DTEND;TZID=Australia/Sydney:20270110T113000
DTSTAMP:20260421T005828
CREATED:20190316T051141Z
LAST-MODIFIED:20190316T051141Z
UID:10299-1799577000-1799580600@temora-msc.lutheran.org.au
SUMMARY:Intergenerational GROW Service - Trinity
DESCRIPTION:
URL:https://temora-msc.lutheran.org.au/event/intergenerational-grow-service-trinity/2027-01-10/
LOCATION:Trinity Lutheran Church\, 145 Loftus St\, Termora\, NSW\, 2666\, Australia
CATEGORIES:Intergenerational,Worship
ORGANIZER;CN="Pastor Darren":MAILTO:Darren.kupke@lca.org.au
END:VEVENT
BEGIN:VEVENT
DTSTART;TZID=Australia/Sydney:20270113T100000
DTEND;TZID=Australia/Sydney:20270113T130000
DTSTAMP:20260421T005828
CREATED:20241212T041004Z
LAST-MODIFIED:20241212T041004Z
UID:10320-1799834400-1799845200@temora-msc.lutheran.org.au
SUMMARY:FoodCare - Temora Open
DESCRIPTION:See our FoodCare page here
URL:https://temora-msc.lutheran.org.au/event/foodcare-temora/2027-01-13/
LOCATION:FoodCare – Temora\, 262 Hoskins Street\, Temora\, NSW\, 2666\, Australia
CATEGORIES:FoodCare
GEO:-34.449332;147.5343819
X-APPLE-STRUCTURED-LOCATION;VALUE=URI;X-ADDRESS=FoodCare – Temora 262 Hoskins Street Temora NSW 2666 Australia;X-APPLE-RADIUS=500;X-TITLE=262 Hoskins Street:geo:147.5343819,-34.449332
END:VEVENT
BEGIN:VEVENT
DTSTART;TZID=Australia/Sydney:20270114T100000
DTEND;TZID=Australia/Sydney:20270114T130000
DTSTAMP:20260421T005828
CREATED:20241212T041004Z
LAST-MODIFIED:20241212T041004Z
UID:10321-1799920800-1799931600@temora-msc.lutheran.org.au
SUMMARY:FoodCare - Temora Open
DESCRIPTION:See our FoodCare page here
URL:https://temora-msc.lutheran.org.au/event/foodcare-temora/2027-01-14/
LOCATION:FoodCare – Temora\, 262 Hoskins Street\, Temora\, NSW\, 2666\, Australia
CATEGORIES:FoodCare
GEO:-34.449332;147.5343819
X-APPLE-STRUCTURED-LOCATION;VALUE=URI;X-ADDRESS=FoodCare – Temora 262 Hoskins Street Temora NSW 2666 Australia;X-APPLE-RADIUS=500;X-TITLE=262 Hoskins Street:geo:147.5343819,-34.449332
END:VEVENT
BEGIN:VEVENT
DTSTART;TZID=Australia/Sydney:20270114T100000
DTEND;TZID=Australia/Sydney:20270114T130000
DTSTAMP:20260421T005828
CREATED:20241212T042254Z
LAST-MODIFIED:20241212T042254Z
UID:10330-1799920800-1799931600@temora-msc.lutheran.org.au
SUMMARY:FoodCare - Barmedman Open
DESCRIPTION:See our FoodCare page here
URL:https://temora-msc.lutheran.org.au/event/foodcare-barmedman/2027-01-14/
LOCATION:FoodCare – Barmedman\, Queen Street 76\, Barmedman\, NSW\, 2668\, Australia
CATEGORIES:FoodCare
GEO:-34.143122;147.3860399
X-APPLE-STRUCTURED-LOCATION;VALUE=URI;X-ADDRESS=FoodCare – Barmedman Queen Street 76 Barmedman NSW 2668 Australia;X-APPLE-RADIUS=500;X-TITLE=Queen Street 76:geo:147.3860399,-34.143122
END:VEVENT
BEGIN:VEVENT
DTSTART;TZID=Australia/Sydney:20270117T083000
DTEND;TZID=Australia/Sydney:20270117T093000
DTSTAMP:20260421T005828
CREATED:20180927T043915Z
LAST-MODIFIED:20260311T013132Z
UID:10312-1800174600-1800178200@temora-msc.lutheran.org.au
SUMMARY:Worship Service - Zion\, Trungley Hall
DESCRIPTION:Holy Communion usually on the 2nd\, 3rd and 4th Sundays of the month.
URL:https://temora-msc.lutheran.org.au/event/worship-service-zion-trungley-hall-2020-03-22-2020-10-18-2021-05-16/2027-01-17/
LOCATION:Trungley Hall\, 71 Schuberts Rd\, Trungley Hall\, NSW\, 2666\, Australia
CATEGORIES:Worship
GEO:-34.287965;147.548457
X-APPLE-STRUCTURED-LOCATION;VALUE=URI;X-ADDRESS=Trungley Hall 71 Schuberts Rd Trungley Hall NSW 2666 Australia;X-APPLE-RADIUS=500;X-TITLE=71 Schuberts Rd:geo:147.548457,-34.287965
END:VEVENT
BEGIN:VEVENT
DTSTART;TZID=Australia/Sydney:20270117T103000
DTEND;TZID=Australia/Sydney:20270117T113000
DTSTAMP:20260421T005828
CREATED:20180927T042925Z
LAST-MODIFIED:20180927T042925Z
UID:10307-1800181800-1800185400@temora-msc.lutheran.org.au
SUMMARY:Worship Service - Trinity\, Temora
DESCRIPTION:Holy Communion usually on the 1st\, 2nd and 4th Sundays of the month.
URL:https://temora-msc.lutheran.org.au/event/worship-service-trinity-temora-2020-03-29-2020-03-22-2020-10-18/2027-01-17/
LOCATION:Trinity Lutheran Church\, 145 Loftus St\, Termora\, NSW\, 2666\, Australia
CATEGORIES:Worship
END:VEVENT
BEGIN:VEVENT
DTSTART;TZID=Australia/Sydney:20270117T110000
DTEND;TZID=Australia/Sydney:20270117T120000
DTSTAMP:20260421T005828
CREATED:20180927T044525Z
LAST-MODIFIED:20260311T013321Z
UID:10302-1800183600-1800187200@temora-msc.lutheran.org.au
SUMMARY:Worship Service - Immanuel\, West Wyalong
DESCRIPTION:Regular Services; \nFirst Sunday of the month: 4pm \nThird Sunday of the month: 11am
URL:https://temora-msc.lutheran.org.au/event/worship-service-west-wyalong-2019-06-16-2020-03-15/2027-01-17/
LOCATION:West Wyalong\, 15 Park St\, West Wyalong\, NSW\, 2671\, Australia
CATEGORIES:WestWyalong,Worship
END:VEVENT
BEGIN:VEVENT
DTSTART;TZID=Australia/Sydney:20270120T100000
DTEND;TZID=Australia/Sydney:20270120T130000
DTSTAMP:20260421T005828
CREATED:20241212T041004Z
LAST-MODIFIED:20241212T041004Z
UID:10322-1800439200-1800450000@temora-msc.lutheran.org.au
SUMMARY:FoodCare - Temora Open
DESCRIPTION:See our FoodCare page here
URL:https://temora-msc.lutheran.org.au/event/foodcare-temora/2027-01-20/
LOCATION:FoodCare – Temora\, 262 Hoskins Street\, Temora\, NSW\, 2666\, Australia
CATEGORIES:FoodCare
GEO:-34.449332;147.5343819
X-APPLE-STRUCTURED-LOCATION;VALUE=URI;X-ADDRESS=FoodCare – Temora 262 Hoskins Street Temora NSW 2666 Australia;X-APPLE-RADIUS=500;X-TITLE=262 Hoskins Street:geo:147.5343819,-34.449332
END:VEVENT
BEGIN:VEVENT
DTSTART;TZID=Australia/Sydney:20270121T100000
DTEND;TZID=Australia/Sydney:20270121T130000
DTSTAMP:20260421T005828
CREATED:20241212T041004Z
LAST-MODIFIED:20241212T041004Z
UID:10323-1800525600-1800536400@temora-msc.lutheran.org.au
SUMMARY:FoodCare - Temora Open
DESCRIPTION:See our FoodCare page here
URL:https://temora-msc.lutheran.org.au/event/foodcare-temora/2027-01-21/
LOCATION:FoodCare – Temora\, 262 Hoskins Street\, Temora\, NSW\, 2666\, Australia
CATEGORIES:FoodCare
GEO:-34.449332;147.5343819
X-APPLE-STRUCTURED-LOCATION;VALUE=URI;X-ADDRESS=FoodCare – Temora 262 Hoskins Street Temora NSW 2666 Australia;X-APPLE-RADIUS=500;X-TITLE=262 Hoskins Street:geo:147.5343819,-34.449332
END:VEVENT
BEGIN:VEVENT
DTSTART;TZID=Australia/Sydney:20270121T100000
DTEND;TZID=Australia/Sydney:20270121T130000
DTSTAMP:20260421T005828
CREATED:20241212T042254Z
LAST-MODIFIED:20241212T042254Z
UID:10331-1800525600-1800536400@temora-msc.lutheran.org.au
SUMMARY:FoodCare - Barmedman Open
DESCRIPTION:See our FoodCare page here
URL:https://temora-msc.lutheran.org.au/event/foodcare-barmedman/2027-01-21/
LOCATION:FoodCare – Barmedman\, Queen Street 76\, Barmedman\, NSW\, 2668\, Australia
CATEGORIES:FoodCare
GEO:-34.143122;147.3860399
X-APPLE-STRUCTURED-LOCATION;VALUE=URI;X-ADDRESS=FoodCare – Barmedman Queen Street 76 Barmedman NSW 2668 Australia;X-APPLE-RADIUS=500;X-TITLE=Queen Street 76:geo:147.3860399,-34.143122
END:VEVENT
BEGIN:VEVENT
DTSTART;TZID=Australia/Sydney:20270124T083000
DTEND;TZID=Australia/Sydney:20270124T093000
DTSTAMP:20260421T005828
CREATED:20180927T043915Z
LAST-MODIFIED:20260311T013132Z
UID:10313-1800779400-1800783000@temora-msc.lutheran.org.au
SUMMARY:Worship Service - Zion\, Trungley Hall
DESCRIPTION:Holy Communion usually on the 2nd\, 3rd and 4th Sundays of the month.
URL:https://temora-msc.lutheran.org.au/event/worship-service-zion-trungley-hall-2020-03-22-2020-10-18-2021-05-16/2027-01-24/
LOCATION:Trungley Hall\, 71 Schuberts Rd\, Trungley Hall\, NSW\, 2666\, Australia
CATEGORIES:Worship
GEO:-34.287965;147.548457
X-APPLE-STRUCTURED-LOCATION;VALUE=URI;X-ADDRESS=Trungley Hall 71 Schuberts Rd Trungley Hall NSW 2666 Australia;X-APPLE-RADIUS=500;X-TITLE=71 Schuberts Rd:geo:147.548457,-34.287965
END:VEVENT
BEGIN:VEVENT
DTSTART;TZID=Australia/Sydney:20270124T103000
DTEND;TZID=Australia/Sydney:20270124T113000
DTSTAMP:20260421T005828
CREATED:20180927T042925Z
LAST-MODIFIED:20180927T042925Z
UID:10308-1800786600-1800790200@temora-msc.lutheran.org.au
SUMMARY:Worship Service - Trinity\, Temora
DESCRIPTION:Holy Communion usually on the 1st\, 2nd and 4th Sundays of the month.
URL:https://temora-msc.lutheran.org.au/event/worship-service-trinity-temora-2020-03-29-2020-03-22-2020-10-18/2027-01-24/
LOCATION:Trinity Lutheran Church\, 145 Loftus St\, Termora\, NSW\, 2666\, Australia
CATEGORIES:Worship
END:VEVENT
BEGIN:VEVENT
DTSTART;TZID=Australia/Sydney:20270127T100000
DTEND;TZID=Australia/Sydney:20270127T130000
DTSTAMP:20260421T005828
CREATED:20241212T041004Z
LAST-MODIFIED:20241212T041004Z
UID:10324-1801044000-1801054800@temora-msc.lutheran.org.au
SUMMARY:FoodCare - Temora Open
DESCRIPTION:See our FoodCare page here
URL:https://temora-msc.lutheran.org.au/event/foodcare-temora/2027-01-27/
LOCATION:FoodCare – Temora\, 262 Hoskins Street\, Temora\, NSW\, 2666\, Australia
CATEGORIES:FoodCare
GEO:-34.449332;147.5343819
X-APPLE-STRUCTURED-LOCATION;VALUE=URI;X-ADDRESS=FoodCare – Temora 262 Hoskins Street Temora NSW 2666 Australia;X-APPLE-RADIUS=500;X-TITLE=262 Hoskins Street:geo:147.5343819,-34.449332
END:VEVENT
BEGIN:VEVENT
DTSTART;TZID=Australia/Sydney:20270128T100000
DTEND;TZID=Australia/Sydney:20270128T130000
DTSTAMP:20260421T005828
CREATED:20241212T041004Z
LAST-MODIFIED:20241212T041004Z
UID:10325-1801130400-1801141200@temora-msc.lutheran.org.au
SUMMARY:FoodCare - Temora Open
DESCRIPTION:See our FoodCare page here
URL:https://temora-msc.lutheran.org.au/event/foodcare-temora/2027-01-28/
LOCATION:FoodCare – Temora\, 262 Hoskins Street\, Temora\, NSW\, 2666\, Australia
CATEGORIES:FoodCare
GEO:-34.449332;147.5343819
X-APPLE-STRUCTURED-LOCATION;VALUE=URI;X-ADDRESS=FoodCare – Temora 262 Hoskins Street Temora NSW 2666 Australia;X-APPLE-RADIUS=500;X-TITLE=262 Hoskins Street:geo:147.5343819,-34.449332
END:VEVENT
BEGIN:VEVENT
DTSTART;TZID=Australia/Sydney:20270128T100000
DTEND;TZID=Australia/Sydney:20270128T130000
DTSTAMP:20260421T005828
CREATED:20241212T042254Z
LAST-MODIFIED:20241212T042254Z
UID:10332-1801130400-1801141200@temora-msc.lutheran.org.au
SUMMARY:FoodCare - Barmedman Open
DESCRIPTION:See our FoodCare page here
URL:https://temora-msc.lutheran.org.au/event/foodcare-barmedman/2027-01-28/
LOCATION:FoodCare – Barmedman\, Queen Street 76\, Barmedman\, NSW\, 2668\, Australia
CATEGORIES:FoodCare
GEO:-34.143122;147.3860399
X-APPLE-STRUCTURED-LOCATION;VALUE=URI;X-ADDRESS=FoodCare – Barmedman Queen Street 76 Barmedman NSW 2668 Australia;X-APPLE-RADIUS=500;X-TITLE=Queen Street 76:geo:147.3860399,-34.143122
END:VEVENT
BEGIN:VEVENT
DTSTART;TZID=Australia/Sydney:20270203T100000
DTEND;TZID=Australia/Sydney:20270203T130000
DTSTAMP:20260421T005828
CREATED:20241212T041004Z
LAST-MODIFIED:20241212T041004Z
UID:10326-1801648800-1801659600@temora-msc.lutheran.org.au
SUMMARY:FoodCare - Temora Open
DESCRIPTION:See our FoodCare page here
URL:https://temora-msc.lutheran.org.au/event/foodcare-temora/2027-02-03/
LOCATION:FoodCare – Temora\, 262 Hoskins Street\, Temora\, NSW\, 2666\, Australia
CATEGORIES:FoodCare
GEO:-34.449332;147.5343819
X-APPLE-STRUCTURED-LOCATION;VALUE=URI;X-ADDRESS=FoodCare – Temora 262 Hoskins Street Temora NSW 2666 Australia;X-APPLE-RADIUS=500;X-TITLE=262 Hoskins Street:geo:147.5343819,-34.449332
END:VEVENT
BEGIN:VEVENT
DTSTART;TZID=Australia/Sydney:20270207T083000
DTEND;TZID=Australia/Sydney:20270207T093000
DTSTAMP:20260421T005828
CREATED:20180927T043915Z
LAST-MODIFIED:20260311T013132Z
UID:10372-1801989000-1801992600@temora-msc.lutheran.org.au
SUMMARY:Worship Service - Zion\, Trungley Hall
DESCRIPTION:Holy Communion usually on the 2nd\, 3rd and 4th Sundays of the month.
URL:https://temora-msc.lutheran.org.au/event/worship-service-zion-trungley-hall-2020-03-22-2020-10-18-2021-05-16/2027-02-07/
LOCATION:Trungley Hall\, 71 Schuberts Rd\, Trungley Hall\, NSW\, 2666\, Australia
CATEGORIES:Worship
GEO:-34.287965;147.548457
X-APPLE-STRUCTURED-LOCATION;VALUE=URI;X-ADDRESS=Trungley Hall 71 Schuberts Rd Trungley Hall NSW 2666 Australia;X-APPLE-RADIUS=500;X-TITLE=71 Schuberts Rd:geo:147.548457,-34.287965
END:VEVENT
END:VCALENDAR