BEGIN:VCALENDAR
VERSION:2.0
PRODID:-//Temora Lutheran Community Church - ECPv6.8.1//NONSGML v1.0//EN
CALSCALE:GREGORIAN
METHOD:PUBLISH
X-WR-CALNAME:Temora Lutheran Community Church
X-ORIGINAL-URL:https://temora-msc.lutheran.org.au
X-WR-CALDESC:Events for Temora Lutheran Community Church
REFRESH-INTERVAL;VALUE=DURATION:PT1H
X-Robots-Tag:noindex
X-PUBLISHED-TTL:PT1H
BEGIN:VTIMEZONE
TZID:Australia/Sydney
BEGIN:STANDARD
TZOFFSETFROM:+1100
TZOFFSETTO:+1000
TZNAME:AEST
DTSTART:20250405T160000
END:STANDARD
BEGIN:DAYLIGHT
TZOFFSETFROM:+1000
TZOFFSETTO:+1100
TZNAME:AEDT
DTSTART:20251004T160000
END:DAYLIGHT
END:VTIMEZONE
BEGIN:VEVENT
DTSTART;TZID=Australia/Sydney:20250921T110000
DTEND;TZID=Australia/Sydney:20250921T170000
DTSTAMP:20260420T040218
CREATED:20240909T073100Z
LAST-MODIFIED:20250821T110640Z
UID:8528-1758452400-1758474000@temora-msc.lutheran.org.au
SUMMARY:Churches of Temora - Combined service in Gloucester Park
DESCRIPTION:Hosted by Temora Christian Leaders and the Churches of Temora this Combined service is held in Gloucester Park followed by BBQ lunch. Join us as we celebrate together as the body of Christ in Temora.
URL:https://temora-msc.lutheran.org.au/event/churches-of-temora-combined-service-in-gloucester-park/
LOCATION:Gloucester Park\, Temora
CATEGORIES:Worship
END:VEVENT
BEGIN:VEVENT
DTSTART;TZID=Australia/Sydney:20250831T103000
DTEND;TZID=Australia/Sydney:20250831T130000
DTSTAMP:20260420T040218
CREATED:20250821T111954Z
LAST-MODIFIED:20250821T111954Z
UID:9858-1756636200-1756645200@temora-msc.lutheran.org.au
SUMMARY:5th-Sunday Combined Service & lunch at Trinity\, Temora
DESCRIPTION:Bring a plate of finger-food lunch to share. (No service at Trungley Hall today)
URL:https://temora-msc.lutheran.org.au/event/5th-sunday-combined-service-lunch-at-trinity-temora/
LOCATION:Trinity Lutheran Church\, 145 Loftus St\, Termora\, NSW\, 2666\, Australia
CATEGORIES:Worship
END:VEVENT
BEGIN:VEVENT
DTSTART;TZID=Australia/Sydney:20250629T120000
DTEND;TZID=Australia/Sydney:20250629T150000
DTSTAMP:20260420T040218
CREATED:20250618T133800Z
LAST-MODIFIED:20250618T134740Z
UID:9570-1751198400-1751209200@temora-msc.lutheran.org.au
SUMMARY:Casserole Lunch and PNG Cultural Experience
DESCRIPTION:Join us for a shared casserole lunch followed by sharing of PNG culture from the Warrambui Interns. \n10:30 am Church Service\n12 noon Shared Casserole lunch\n1 pmish Experiencing PNG culture\nJoin us for as much as little as available. \n2025 Warrambui Interns
URL:https://temora-msc.lutheran.org.au/event/casserole-lunch-and-png-cultural-experience/
LOCATION:St Johns Hall\, 110 Vesper St\, Temora\, NSW\, 2666\, Australia
CATEGORIES:Fellowship,Intergenerational
END:VEVENT
BEGIN:VEVENT
DTSTART;TZID=Australia/Sydney:20250420T103000
DTEND;TZID=Australia/Sydney:20250420T113000
DTSTAMP:20260420T040218
CREATED:20180927T042925Z
LAST-MODIFIED:20250311T024942Z
UID:6512-1745145000-1745148600@temora-msc.lutheran.org.au
SUMMARY:Easter Sunday Service - Trinity Temora HC
DESCRIPTION:Resurrection service with Holy Communion
URL:https://temora-msc.lutheran.org.au/event/worship-service-trinity-temora-2020-03-29-2020-03-22-2020-10-18-2022-04-17/
LOCATION:Trinity Lutheran Church\, 145 Loftus St\, Termora\, NSW\, 2666\, Australia
CATEGORIES:Worship
END:VEVENT
BEGIN:VEVENT
DTSTART;TZID=Australia/Sydney:20250420T063000
DTEND;TZID=Australia/Sydney:20250420T093000
DTSTAMP:20260420T040218
CREATED:20180927T043915Z
LAST-MODIFIED:20250311T024905Z
UID:6508-1745130600-1745141400@temora-msc.lutheran.org.au
SUMMARY:Easter Dawn Service - Zion Trungley Hall
DESCRIPTION:Outdoor Dawn Service at Trungley Hall followed by cooked breakfast \n  \nAddress: 71 Schuberts Rd \nDirections from Temora:\nHead North on Trungley Hall Rd for 18km\, turn left at the cross Rd (signposted)\, turn left after 1km into church yard.
URL:https://temora-msc.lutheran.org.au/event/worship-service-zion-trungley-hall-2020-03-22-2020-10-18-2021-05-16-2022-04-17/
LOCATION:Trungley Hall\, 71 Schuberts Rd\, Trungley Hall\, NSW\, 2666\, Australia
CATEGORIES:Worship
GEO:-34.287965;147.548457
X-APPLE-STRUCTURED-LOCATION;VALUE=URI;X-ADDRESS=Trungley Hall 71 Schuberts Rd Trungley Hall NSW 2666 Australia;X-APPLE-RADIUS=500;X-TITLE=71 Schuberts Rd:geo:147.548457,-34.287965
END:VEVENT
BEGIN:VEVENT
DTSTART;TZID=Australia/Sydney:20250418T193000
DTEND;TZID=Australia/Sydney:20250418T203000
DTSTAMP:20260420T040218
CREATED:20220312T121826Z
LAST-MODIFIED:20250311T024648Z
UID:7248-1745004600-1745008200@temora-msc.lutheran.org.au
SUMMARY:Maundy Thursd'y Service - Trungley Hall\, HC
DESCRIPTION:A service focusing on Jesus’ love toward his disciples
URL:https://temora-msc.lutheran.org.au/event/maundy-thursdy-service-trinity-temora-hc-zoom/
LOCATION:Trungley Hall\, 71 Schuberts Rd\, Trungley Hall\, NSW\, 2666\, Australia
CATEGORIES:Worship
GEO:-34.287965;147.548457
X-APPLE-STRUCTURED-LOCATION;VALUE=URI;X-ADDRESS=Trungley Hall 71 Schuberts Rd Trungley Hall NSW 2666 Australia;X-APPLE-RADIUS=500;X-TITLE=71 Schuberts Rd:geo:147.548457,-34.287965
END:VEVENT
BEGIN:VEVENT
DTSTART;TZID=Australia/Sydney:20250418T150000
DTEND;TZID=Australia/Sydney:20250418T160000
DTSTAMP:20260420T040218
CREATED:20220312T121950Z
LAST-MODIFIED:20250311T024838Z
UID:7250-1744988400-1744992000@temora-msc.lutheran.org.au
SUMMARY:Good Friday Service - Trinity\, Temora
DESCRIPTION:A service focusing on Jesus Christ’s death for you and me
URL:https://temora-msc.lutheran.org.au/event/good-friday-service-zion-trungley-hall/
LOCATION:Trinity Lutheran Church\, 145 Loftus St\, Termora\, NSW\, 2666\, Australia
CATEGORIES:Worship
END:VEVENT
BEGIN:VEVENT
DTSTART;TZID=Australia/Sydney:20250418T100000
DTEND;TZID=Australia/Sydney:20250418T100000
DTSTAMP:20260420T040218
CREATED:20180927T044525Z
LAST-MODIFIED:20250311T024832Z
UID:6853-1744970400-1744970400@temora-msc.lutheran.org.au
SUMMARY:Good Friday Easter Service - West Wyalong HC
DESCRIPTION:A service focusing on both Christ’s death and his resurrection for you and the new life we can have in him.
URL:https://temora-msc.lutheran.org.au/event/worship-service-west-wyalong-2019-06-16-2020-03-15-2022-04-17/
LOCATION:West Wyalong\, 15 Park St\, West Wyalong\, NSW\, 2671\, Australia
CATEGORIES:WestWyalong,Worship
END:VEVENT
BEGIN:VEVENT
DTSTART;TZID=Australia/Sydney:20250316T100000
DTEND;TZID=Australia/Sydney:20250316T170000
DTSTAMP:20260420T040218
CREATED:20250311T034327Z
LAST-MODIFIED:20250311T034327Z
UID:9564-1742119200-1742144400@temora-msc.lutheran.org.au
SUMMARY:Worship Service + AGM - West Wyalong
DESCRIPTION:10am Worship Service followed by congregation AGM at 11am
URL:https://temora-msc.lutheran.org.au/event/worship-service-agm-west-wyalong/
LOCATION:West Wyalong\, 15 Park St\, West Wyalong\, NSW\, 2671\, Australia
CATEGORIES:WestWyalong,Worship
END:VEVENT
BEGIN:VEVENT
DTSTART;TZID=Australia/Sydney:20250305T193000
DTEND;TZID=Australia/Sydney:20250305T193000
DTSTAMP:20260420T040218
CREATED:20240209T043026Z
LAST-MODIFIED:20241212T034315Z
UID:8329-1741203000-1741203000@temora-msc.lutheran.org.au
SUMMARY:Ash Wednesday Service
DESCRIPTION:Download Lent Devotion book here
URL:https://temora-msc.lutheran.org.au/event/ash-wednesday-service/
LOCATION:Trinity Lutheran Church\, 145 Loftus St\, Termora\, NSW\, 2666\, Australia
END:VEVENT
END:VCALENDAR