BEGIN:VCALENDAR
VERSION:2.0
PRODID:-//Temora Lutheran Community Church - ECPv6.8.1//NONSGML v1.0//EN
CALSCALE:GREGORIAN
METHOD:PUBLISH
X-WR-CALNAME:Temora Lutheran Community Church
X-ORIGINAL-URL:https://temora-msc.lutheran.org.au
X-WR-CALDESC:Events for Temora Lutheran Community Church
REFRESH-INTERVAL;VALUE=DURATION:PT1H
X-Robots-Tag:noindex
X-PUBLISHED-TTL:PT1H
BEGIN:VTIMEZONE
TZID:Australia/Sydney
BEGIN:STANDARD
TZOFFSETFROM:+1100
TZOFFSETTO:+1000
TZNAME:AEST
DTSTART:20260404T160000
END:STANDARD
BEGIN:DAYLIGHT
TZOFFSETFROM:+1000
TZOFFSETTO:+1100
TZNAME:AEDT
DTSTART:20261003T160000
END:DAYLIGHT
END:VTIMEZONE
BEGIN:VEVENT
DTSTART;TZID=Australia/Sydney:20260920T083000
DTEND;TZID=Australia/Sydney:20260920T093000
DTSTAMP:20260420T094015
CREATED:20180927T043915Z
LAST-MODIFIED:20260311T013206Z
UID:10054-1789893000-1789896600@temora-msc.lutheran.org.au
SUMMARY:Worship Service - Zion\, Trungley Hall
DESCRIPTION:Holy Communion usually on the 2nd\, 3rd and 4th Sundays of the month.
URL:https://temora-msc.lutheran.org.au/event/worship-service-zion-trungley-hall-2020-03-22-2020-10-18-2021-05-16/2026-09-20/
LOCATION:Trungley Hall\, 71 Schuberts Rd\, Trungley Hall\, NSW\, 2666\, Australia
CATEGORIES:Worship
GEO:-34.287965;147.548457
X-APPLE-STRUCTURED-LOCATION;VALUE=URI;X-ADDRESS=Trungley Hall 71 Schuberts Rd Trungley Hall NSW 2666 Australia;X-APPLE-RADIUS=500;X-TITLE=71 Schuberts Rd:geo:147.548457,-34.287965
END:VEVENT
BEGIN:VEVENT
DTSTART;TZID=Australia/Sydney:20260920T103000
DTEND;TZID=Australia/Sydney:20260920T113000
DTSTAMP:20260420T094015
CREATED:20180927T042925Z
LAST-MODIFIED:20180927T042925Z
UID:10141-1789900200-1789903800@temora-msc.lutheran.org.au
SUMMARY:Worship Service - Trinity\, Temora
DESCRIPTION:Holy Communion usually on the 1st\, 2nd and 4th Sundays of the month.
URL:https://temora-msc.lutheran.org.au/event/worship-service-trinity-temora-2020-03-29-2020-03-22-2020-10-18/2026-09-20/
LOCATION:Trinity Lutheran Church\, 145 Loftus St\, Termora\, NSW\, 2666\, Australia
CATEGORIES:Worship
END:VEVENT
BEGIN:VEVENT
DTSTART;TZID=Australia/Sydney:20260920T110000
DTEND;TZID=Australia/Sydney:20260920T120000
DTSTAMP:20260420T094015
CREATED:20180927T044525Z
LAST-MODIFIED:20260311T013320Z
UID:10047-1789902000-1789905600@temora-msc.lutheran.org.au
SUMMARY:Worship Service - Immanuel\, West Wyalong
DESCRIPTION:Regular Services; \nFirst Sunday of the month: 4pm \nThird Sunday of the month: 11am
URL:https://temora-msc.lutheran.org.au/event/worship-service-west-wyalong-2019-06-16-2020-03-15/2026-09-20/
LOCATION:West Wyalong\, 15 Park St\, West Wyalong\, NSW\, 2671\, Australia
CATEGORIES:WestWyalong,Worship
END:VEVENT
BEGIN:VEVENT
DTSTART;TZID=Australia/Sydney:20260923T100000
DTEND;TZID=Australia/Sydney:20260923T130000
DTSTAMP:20260420T094015
CREATED:20241212T041004Z
LAST-MODIFIED:20251218T230355Z
UID:10096-1790157600-1790168400@temora-msc.lutheran.org.au
SUMMARY:FoodCare - Temora Open
DESCRIPTION:See our FoodCare page here
URL:https://temora-msc.lutheran.org.au/event/foodcare-temora/2026-09-23/
LOCATION:FoodCare – Temora\, 262 Hoskins Street\, Temora\, NSW\, 2666\, Australia
CATEGORIES:FoodCare
GEO:-34.449332;147.5343819
X-APPLE-STRUCTURED-LOCATION;VALUE=URI;X-ADDRESS=FoodCare – Temora 262 Hoskins Street Temora NSW 2666 Australia;X-APPLE-RADIUS=500;X-TITLE=262 Hoskins Street:geo:147.5343819,-34.449332
END:VEVENT
BEGIN:VEVENT
DTSTART;TZID=Australia/Sydney:20260924T100000
DTEND;TZID=Australia/Sydney:20260924T130000
DTSTAMP:20260420T094015
CREATED:20241212T041004Z
LAST-MODIFIED:20251218T230355Z
UID:10097-1790244000-1790254800@temora-msc.lutheran.org.au
SUMMARY:FoodCare - Temora Open
DESCRIPTION:See our FoodCare page here
URL:https://temora-msc.lutheran.org.au/event/foodcare-temora/2026-09-24/
LOCATION:FoodCare – Temora\, 262 Hoskins Street\, Temora\, NSW\, 2666\, Australia
CATEGORIES:FoodCare
GEO:-34.449332;147.5343819
X-APPLE-STRUCTURED-LOCATION;VALUE=URI;X-ADDRESS=FoodCare – Temora 262 Hoskins Street Temora NSW 2666 Australia;X-APPLE-RADIUS=500;X-TITLE=262 Hoskins Street:geo:147.5343819,-34.449332
END:VEVENT
BEGIN:VEVENT
DTSTART;TZID=Australia/Sydney:20260924T100000
DTEND;TZID=Australia/Sydney:20260924T130000
DTSTAMP:20260420T094015
CREATED:20241212T042254Z
LAST-MODIFIED:20251218T225840Z
UID:10126-1790244000-1790254800@temora-msc.lutheran.org.au
SUMMARY:FoodCare - Barmedman Open
DESCRIPTION:See our FoodCare page here
URL:https://temora-msc.lutheran.org.au/event/foodcare-barmedman/2026-09-24/
LOCATION:FoodCare – Barmedman\, Queen Street 76\, Barmedman\, NSW\, 2668\, Australia
CATEGORIES:FoodCare
GEO:-34.143122;147.3860399
X-APPLE-STRUCTURED-LOCATION;VALUE=URI;X-ADDRESS=FoodCare – Barmedman Queen Street 76 Barmedman NSW 2668 Australia;X-APPLE-RADIUS=500;X-TITLE=Queen Street 76:geo:147.3860399,-34.143122
END:VEVENT
BEGIN:VEVENT
DTSTART;TZID=Australia/Sydney:20260927T083000
DTEND;TZID=Australia/Sydney:20260927T093000
DTSTAMP:20260420T094015
CREATED:20180927T043915Z
LAST-MODIFIED:20260311T013206Z
UID:10055-1790497800-1790501400@temora-msc.lutheran.org.au
SUMMARY:Worship Service - Zion\, Trungley Hall
DESCRIPTION:Holy Communion usually on the 2nd\, 3rd and 4th Sundays of the month.
URL:https://temora-msc.lutheran.org.au/event/worship-service-zion-trungley-hall-2020-03-22-2020-10-18-2021-05-16/2026-09-27/
LOCATION:Trungley Hall\, 71 Schuberts Rd\, Trungley Hall\, NSW\, 2666\, Australia
CATEGORIES:Worship
GEO:-34.287965;147.548457
X-APPLE-STRUCTURED-LOCATION;VALUE=URI;X-ADDRESS=Trungley Hall 71 Schuberts Rd Trungley Hall NSW 2666 Australia;X-APPLE-RADIUS=500;X-TITLE=71 Schuberts Rd:geo:147.548457,-34.287965
END:VEVENT
BEGIN:VEVENT
DTSTART;TZID=Australia/Sydney:20260927T103000
DTEND;TZID=Australia/Sydney:20260927T113000
DTSTAMP:20260420T094015
CREATED:20180927T042925Z
LAST-MODIFIED:20180927T042925Z
UID:10142-1790505000-1790508600@temora-msc.lutheran.org.au
SUMMARY:Worship Service - Trinity\, Temora
DESCRIPTION:Holy Communion usually on the 1st\, 2nd and 4th Sundays of the month.
URL:https://temora-msc.lutheran.org.au/event/worship-service-trinity-temora-2020-03-29-2020-03-22-2020-10-18/2026-09-27/
LOCATION:Trinity Lutheran Church\, 145 Loftus St\, Termora\, NSW\, 2666\, Australia
CATEGORIES:Worship
END:VEVENT
BEGIN:VEVENT
DTSTART;TZID=Australia/Sydney:20260930T100000
DTEND;TZID=Australia/Sydney:20260930T130000
DTSTAMP:20260420T094015
CREATED:20241212T041004Z
LAST-MODIFIED:20251218T230355Z
UID:10098-1790762400-1790773200@temora-msc.lutheran.org.au
SUMMARY:FoodCare - Temora Open
DESCRIPTION:See our FoodCare page here
URL:https://temora-msc.lutheran.org.au/event/foodcare-temora/2026-09-30/
LOCATION:FoodCare – Temora\, 262 Hoskins Street\, Temora\, NSW\, 2666\, Australia
CATEGORIES:FoodCare
GEO:-34.449332;147.5343819
X-APPLE-STRUCTURED-LOCATION;VALUE=URI;X-ADDRESS=FoodCare – Temora 262 Hoskins Street Temora NSW 2666 Australia;X-APPLE-RADIUS=500;X-TITLE=262 Hoskins Street:geo:147.5343819,-34.449332
END:VEVENT
BEGIN:VEVENT
DTSTART;TZID=Australia/Sydney:20261001T100000
DTEND;TZID=Australia/Sydney:20261001T130000
DTSTAMP:20260420T094015
CREATED:20241212T041004Z
LAST-MODIFIED:20251218T230355Z
UID:10099-1790848800-1790859600@temora-msc.lutheran.org.au
SUMMARY:FoodCare - Temora Open
DESCRIPTION:See our FoodCare page here
URL:https://temora-msc.lutheran.org.au/event/foodcare-temora/2026-10-01/
LOCATION:FoodCare – Temora\, 262 Hoskins Street\, Temora\, NSW\, 2666\, Australia
CATEGORIES:FoodCare
GEO:-34.449332;147.5343819
X-APPLE-STRUCTURED-LOCATION;VALUE=URI;X-ADDRESS=FoodCare – Temora 262 Hoskins Street Temora NSW 2666 Australia;X-APPLE-RADIUS=500;X-TITLE=262 Hoskins Street:geo:147.5343819,-34.449332
END:VEVENT
BEGIN:VEVENT
DTSTART;TZID=Australia/Sydney:20261001T100000
DTEND;TZID=Australia/Sydney:20261001T130000
DTSTAMP:20260420T094015
CREATED:20241212T042254Z
LAST-MODIFIED:20251218T225840Z
UID:10127-1790848800-1790859600@temora-msc.lutheran.org.au
SUMMARY:FoodCare - Barmedman Open
DESCRIPTION:See our FoodCare page here
URL:https://temora-msc.lutheran.org.au/event/foodcare-barmedman/2026-10-01/
LOCATION:FoodCare – Barmedman\, Queen Street 76\, Barmedman\, NSW\, 2668\, Australia
CATEGORIES:FoodCare
GEO:-34.143122;147.3860399
X-APPLE-STRUCTURED-LOCATION;VALUE=URI;X-ADDRESS=FoodCare – Barmedman Queen Street 76 Barmedman NSW 2668 Australia;X-APPLE-RADIUS=500;X-TITLE=Queen Street 76:geo:147.3860399,-34.143122
END:VEVENT
BEGIN:VEVENT
DTSTART;TZID=Australia/Sydney:20261004T083000
DTEND;TZID=Australia/Sydney:20261004T093000
DTSTAMP:20260420T094015
CREATED:20180927T043915Z
LAST-MODIFIED:20260311T013206Z
UID:10056-1791102600-1791106200@temora-msc.lutheran.org.au
SUMMARY:Worship Service - Zion\, Trungley Hall
DESCRIPTION:Holy Communion usually on the 2nd\, 3rd and 4th Sundays of the month.
URL:https://temora-msc.lutheran.org.au/event/worship-service-zion-trungley-hall-2020-03-22-2020-10-18-2021-05-16/2026-10-04/
LOCATION:Trungley Hall\, 71 Schuberts Rd\, Trungley Hall\, NSW\, 2666\, Australia
CATEGORIES:Worship
GEO:-34.287965;147.548457
X-APPLE-STRUCTURED-LOCATION;VALUE=URI;X-ADDRESS=Trungley Hall 71 Schuberts Rd Trungley Hall NSW 2666 Australia;X-APPLE-RADIUS=500;X-TITLE=71 Schuberts Rd:geo:147.548457,-34.287965
END:VEVENT
BEGIN:VEVENT
DTSTART;TZID=Australia/Sydney:20261004T103000
DTEND;TZID=Australia/Sydney:20261004T113000
DTSTAMP:20260420T094015
CREATED:20180927T042925Z
LAST-MODIFIED:20180927T042925Z
UID:10143-1791109800-1791113400@temora-msc.lutheran.org.au
SUMMARY:Worship Service - Trinity\, Temora
DESCRIPTION:Holy Communion usually on the 1st\, 2nd and 4th Sundays of the month.
URL:https://temora-msc.lutheran.org.au/event/worship-service-trinity-temora-2020-03-29-2020-03-22-2020-10-18/2026-10-04/
LOCATION:Trinity Lutheran Church\, 145 Loftus St\, Termora\, NSW\, 2666\, Australia
CATEGORIES:Worship
END:VEVENT
BEGIN:VEVENT
DTSTART;TZID=Australia/Sydney:20261004T160000
DTEND;TZID=Australia/Sydney:20261004T170000
DTSTAMP:20260420T094015
CREATED:20180927T044525Z
LAST-MODIFIED:20260311T013320Z
UID:10048-1791129600-1791133200@temora-msc.lutheran.org.au
SUMMARY:Worship Service - Immanuel\, West Wyalong
DESCRIPTION:Regular Services; \nFirst Sunday of the month: 4pm \nThird Sunday of the month: 11am
URL:https://temora-msc.lutheran.org.au/event/worship-service-west-wyalong-2019-06-16-2020-03-15/2026-10-04/
LOCATION:West Wyalong\, 15 Park St\, West Wyalong\, NSW\, 2671\, Australia
CATEGORIES:WestWyalong,Worship
END:VEVENT
BEGIN:VEVENT
DTSTART;TZID=Australia/Sydney:20261007T100000
DTEND;TZID=Australia/Sydney:20261007T130000
DTSTAMP:20260420T094015
CREATED:20241212T041004Z
LAST-MODIFIED:20251218T230355Z
UID:10100-1791367200-1791378000@temora-msc.lutheran.org.au
SUMMARY:FoodCare - Temora Open
DESCRIPTION:See our FoodCare page here
URL:https://temora-msc.lutheran.org.au/event/foodcare-temora/2026-10-07/
LOCATION:FoodCare – Temora\, 262 Hoskins Street\, Temora\, NSW\, 2666\, Australia
CATEGORIES:FoodCare
GEO:-34.449332;147.5343819
X-APPLE-STRUCTURED-LOCATION;VALUE=URI;X-ADDRESS=FoodCare – Temora 262 Hoskins Street Temora NSW 2666 Australia;X-APPLE-RADIUS=500;X-TITLE=262 Hoskins Street:geo:147.5343819,-34.449332
END:VEVENT
BEGIN:VEVENT
DTSTART;TZID=Australia/Sydney:20261008T100000
DTEND;TZID=Australia/Sydney:20261008T130000
DTSTAMP:20260420T094015
CREATED:20241212T041004Z
LAST-MODIFIED:20251218T230355Z
UID:10101-1791453600-1791464400@temora-msc.lutheran.org.au
SUMMARY:FoodCare - Temora Open
DESCRIPTION:See our FoodCare page here
URL:https://temora-msc.lutheran.org.au/event/foodcare-temora/2026-10-08/
LOCATION:FoodCare – Temora\, 262 Hoskins Street\, Temora\, NSW\, 2666\, Australia
CATEGORIES:FoodCare
GEO:-34.449332;147.5343819
X-APPLE-STRUCTURED-LOCATION;VALUE=URI;X-ADDRESS=FoodCare – Temora 262 Hoskins Street Temora NSW 2666 Australia;X-APPLE-RADIUS=500;X-TITLE=262 Hoskins Street:geo:147.5343819,-34.449332
END:VEVENT
BEGIN:VEVENT
DTSTART;TZID=Australia/Sydney:20261008T100000
DTEND;TZID=Australia/Sydney:20261008T130000
DTSTAMP:20260420T094015
CREATED:20241212T042254Z
LAST-MODIFIED:20251218T225840Z
UID:10128-1791453600-1791464400@temora-msc.lutheran.org.au
SUMMARY:FoodCare - Barmedman Open
DESCRIPTION:See our FoodCare page here
URL:https://temora-msc.lutheran.org.au/event/foodcare-barmedman/2026-10-08/
LOCATION:FoodCare – Barmedman\, Queen Street 76\, Barmedman\, NSW\, 2668\, Australia
CATEGORIES:FoodCare
GEO:-34.143122;147.3860399
X-APPLE-STRUCTURED-LOCATION;VALUE=URI;X-ADDRESS=FoodCare – Barmedman Queen Street 76 Barmedman NSW 2668 Australia;X-APPLE-RADIUS=500;X-TITLE=Queen Street 76:geo:147.3860399,-34.143122
END:VEVENT
BEGIN:VEVENT
DTSTART;TZID=Australia/Sydney:20261011T083000
DTEND;TZID=Australia/Sydney:20261011T093000
DTSTAMP:20260420T094015
CREATED:20190306T051829Z
LAST-MODIFIED:20190306T051829Z
UID:10287-1791707400-1791711000@temora-msc.lutheran.org.au
SUMMARY:Intergenerational GROW Service - Trungley Hall
DESCRIPTION:
URL:https://temora-msc.lutheran.org.au/event/intergenerational-grow-service-trungley-hall-2020-03-08/2026-10-11/
LOCATION:Trungley Hall\, 71 Schuberts Rd\, Trungley Hall\, NSW\, 2666\, Australia
CATEGORIES:Intergenerational,Worship
GEO:-34.287965;147.548457
X-APPLE-STRUCTURED-LOCATION;VALUE=URI;X-ADDRESS=Trungley Hall 71 Schuberts Rd Trungley Hall NSW 2666 Australia;X-APPLE-RADIUS=500;X-TITLE=71 Schuberts Rd:geo:147.548457,-34.287965
END:VEVENT
BEGIN:VEVENT
DTSTART;TZID=Australia/Sydney:20261011T103000
DTEND;TZID=Australia/Sydney:20261011T113000
DTSTAMP:20260420T094015
CREATED:20190316T051141Z
LAST-MODIFIED:20190316T051141Z
UID:10210-1791714600-1791718200@temora-msc.lutheran.org.au
SUMMARY:Intergenerational GROW Service - Trinity
DESCRIPTION:
URL:https://temora-msc.lutheran.org.au/event/intergenerational-grow-service-trinity/2026-10-11/
LOCATION:Trinity Lutheran Church\, 145 Loftus St\, Termora\, NSW\, 2666\, Australia
CATEGORIES:Intergenerational,Worship
ORGANIZER;CN="Pastor Darren":MAILTO:Darren.kupke@lca.org.au
END:VEVENT
BEGIN:VEVENT
DTSTART;TZID=Australia/Sydney:20261014T100000
DTEND;TZID=Australia/Sydney:20261014T130000
DTSTAMP:20260420T094015
CREATED:20241212T041004Z
LAST-MODIFIED:20251218T230355Z
UID:10102-1791972000-1791982800@temora-msc.lutheran.org.au
SUMMARY:FoodCare - Temora Open
DESCRIPTION:See our FoodCare page here
URL:https://temora-msc.lutheran.org.au/event/foodcare-temora/2026-10-14/
LOCATION:FoodCare – Temora\, 262 Hoskins Street\, Temora\, NSW\, 2666\, Australia
CATEGORIES:FoodCare
GEO:-34.449332;147.5343819
X-APPLE-STRUCTURED-LOCATION;VALUE=URI;X-ADDRESS=FoodCare – Temora 262 Hoskins Street Temora NSW 2666 Australia;X-APPLE-RADIUS=500;X-TITLE=262 Hoskins Street:geo:147.5343819,-34.449332
END:VEVENT
BEGIN:VEVENT
DTSTART;TZID=Australia/Sydney:20261015T100000
DTEND;TZID=Australia/Sydney:20261015T130000
DTSTAMP:20260420T094015
CREATED:20241212T041004Z
LAST-MODIFIED:20251218T230355Z
UID:10103-1792058400-1792069200@temora-msc.lutheran.org.au
SUMMARY:FoodCare - Temora Open
DESCRIPTION:See our FoodCare page here
URL:https://temora-msc.lutheran.org.au/event/foodcare-temora/2026-10-15/
LOCATION:FoodCare – Temora\, 262 Hoskins Street\, Temora\, NSW\, 2666\, Australia
CATEGORIES:FoodCare
GEO:-34.449332;147.5343819
X-APPLE-STRUCTURED-LOCATION;VALUE=URI;X-ADDRESS=FoodCare – Temora 262 Hoskins Street Temora NSW 2666 Australia;X-APPLE-RADIUS=500;X-TITLE=262 Hoskins Street:geo:147.5343819,-34.449332
END:VEVENT
BEGIN:VEVENT
DTSTART;TZID=Australia/Sydney:20261015T100000
DTEND;TZID=Australia/Sydney:20261015T130000
DTSTAMP:20260420T094015
CREATED:20241212T042254Z
LAST-MODIFIED:20251218T225840Z
UID:10129-1792058400-1792069200@temora-msc.lutheran.org.au
SUMMARY:FoodCare - Barmedman Open
DESCRIPTION:See our FoodCare page here
URL:https://temora-msc.lutheran.org.au/event/foodcare-barmedman/2026-10-15/
LOCATION:FoodCare – Barmedman\, Queen Street 76\, Barmedman\, NSW\, 2668\, Australia
CATEGORIES:FoodCare
GEO:-34.143122;147.3860399
X-APPLE-STRUCTURED-LOCATION;VALUE=URI;X-ADDRESS=FoodCare – Barmedman Queen Street 76 Barmedman NSW 2668 Australia;X-APPLE-RADIUS=500;X-TITLE=Queen Street 76:geo:147.3860399,-34.143122
END:VEVENT
BEGIN:VEVENT
DTSTART;TZID=Australia/Sydney:20261017T070000
DTEND;TZID=Australia/Sydney:20261017T090000
DTSTAMP:20260420T094015
CREATED:20181008T093643Z
LAST-MODIFIED:20260213T004103Z
UID:10215-1792220400-1792227600@temora-msc.lutheran.org.au
SUMMARY:Christian Men's Breakfast
DESCRIPTION:This event is hosted by various churches in the shire\, usually on the third Saturday of the month. Contact our office to find out the location of this breakfast.
URL:https://temora-msc.lutheran.org.au/event/christian-mens-breakfast/2026-10-17/
LOCATION:NSW
CATEGORIES:Men
ATTACH;FMTTYPE=image/jpeg:https://temora-msc.lutheran.org.au/wp-content/uploads/sites/2414/2018/10/dreamstime_l_19105909.jpg
END:VEVENT
BEGIN:VEVENT
DTSTART;TZID=Australia/Sydney:20261018T083000
DTEND;TZID=Australia/Sydney:20261018T093000
DTSTAMP:20260420T094015
CREATED:20180927T043915Z
LAST-MODIFIED:20260311T013207Z
UID:10057-1792312200-1792315800@temora-msc.lutheran.org.au
SUMMARY:Worship Service - Zion\, Trungley Hall
DESCRIPTION:Holy Communion usually on the 2nd\, 3rd and 4th Sundays of the month.
URL:https://temora-msc.lutheran.org.au/event/worship-service-zion-trungley-hall-2020-03-22-2020-10-18-2021-05-16/2026-10-18/
LOCATION:Trungley Hall\, 71 Schuberts Rd\, Trungley Hall\, NSW\, 2666\, Australia
CATEGORIES:Worship
GEO:-34.287965;147.548457
X-APPLE-STRUCTURED-LOCATION;VALUE=URI;X-ADDRESS=Trungley Hall 71 Schuberts Rd Trungley Hall NSW 2666 Australia;X-APPLE-RADIUS=500;X-TITLE=71 Schuberts Rd:geo:147.548457,-34.287965
END:VEVENT
BEGIN:VEVENT
DTSTART;TZID=Australia/Sydney:20261018T103000
DTEND;TZID=Australia/Sydney:20261018T113000
DTSTAMP:20260420T094016
CREATED:20180927T042925Z
LAST-MODIFIED:20180927T042925Z
UID:10144-1792319400-1792323000@temora-msc.lutheran.org.au
SUMMARY:Worship Service - Trinity\, Temora
DESCRIPTION:Holy Communion usually on the 1st\, 2nd and 4th Sundays of the month.
URL:https://temora-msc.lutheran.org.au/event/worship-service-trinity-temora-2020-03-29-2020-03-22-2020-10-18/2026-10-18/
LOCATION:Trinity Lutheran Church\, 145 Loftus St\, Termora\, NSW\, 2666\, Australia
CATEGORIES:Worship
END:VEVENT
BEGIN:VEVENT
DTSTART;TZID=Australia/Sydney:20261018T110000
DTEND;TZID=Australia/Sydney:20261018T120000
DTSTAMP:20260420T094016
CREATED:20180927T044525Z
LAST-MODIFIED:20260311T013321Z
UID:10049-1792321200-1792324800@temora-msc.lutheran.org.au
SUMMARY:Worship Service - Immanuel\, West Wyalong
DESCRIPTION:Regular Services; \nFirst Sunday of the month: 4pm \nThird Sunday of the month: 11am
URL:https://temora-msc.lutheran.org.au/event/worship-service-west-wyalong-2019-06-16-2020-03-15/2026-10-18/
LOCATION:West Wyalong\, 15 Park St\, West Wyalong\, NSW\, 2671\, Australia
CATEGORIES:WestWyalong,Worship
END:VEVENT
BEGIN:VEVENT
DTSTART;TZID=Australia/Sydney:20261021T100000
DTEND;TZID=Australia/Sydney:20261021T130000
DTSTAMP:20260420T094016
CREATED:20241212T041004Z
LAST-MODIFIED:20251218T230355Z
UID:10104-1792576800-1792587600@temora-msc.lutheran.org.au
SUMMARY:FoodCare - Temora Open
DESCRIPTION:See our FoodCare page here
URL:https://temora-msc.lutheran.org.au/event/foodcare-temora/2026-10-21/
LOCATION:FoodCare – Temora\, 262 Hoskins Street\, Temora\, NSW\, 2666\, Australia
CATEGORIES:FoodCare
GEO:-34.449332;147.5343819
X-APPLE-STRUCTURED-LOCATION;VALUE=URI;X-ADDRESS=FoodCare – Temora 262 Hoskins Street Temora NSW 2666 Australia;X-APPLE-RADIUS=500;X-TITLE=262 Hoskins Street:geo:147.5343819,-34.449332
END:VEVENT
BEGIN:VEVENT
DTSTART;TZID=Australia/Sydney:20261022T100000
DTEND;TZID=Australia/Sydney:20261022T130000
DTSTAMP:20260420T094016
CREATED:20241212T041004Z
LAST-MODIFIED:20251218T230355Z
UID:10105-1792663200-1792674000@temora-msc.lutheran.org.au
SUMMARY:FoodCare - Temora Open
DESCRIPTION:See our FoodCare page here
URL:https://temora-msc.lutheran.org.au/event/foodcare-temora/2026-10-22/
LOCATION:FoodCare – Temora\, 262 Hoskins Street\, Temora\, NSW\, 2666\, Australia
CATEGORIES:FoodCare
GEO:-34.449332;147.5343819
X-APPLE-STRUCTURED-LOCATION;VALUE=URI;X-ADDRESS=FoodCare – Temora 262 Hoskins Street Temora NSW 2666 Australia;X-APPLE-RADIUS=500;X-TITLE=262 Hoskins Street:geo:147.5343819,-34.449332
END:VEVENT
BEGIN:VEVENT
DTSTART;TZID=Australia/Sydney:20261022T100000
DTEND;TZID=Australia/Sydney:20261022T130000
DTSTAMP:20260420T094016
CREATED:20241212T042254Z
LAST-MODIFIED:20251218T225840Z
UID:10130-1792663200-1792674000@temora-msc.lutheran.org.au
SUMMARY:FoodCare - Barmedman Open
DESCRIPTION:See our FoodCare page here
URL:https://temora-msc.lutheran.org.au/event/foodcare-barmedman/2026-10-22/
LOCATION:FoodCare – Barmedman\, Queen Street 76\, Barmedman\, NSW\, 2668\, Australia
CATEGORIES:FoodCare
GEO:-34.143122;147.3860399
X-APPLE-STRUCTURED-LOCATION;VALUE=URI;X-ADDRESS=FoodCare – Barmedman Queen Street 76 Barmedman NSW 2668 Australia;X-APPLE-RADIUS=500;X-TITLE=Queen Street 76:geo:147.3860399,-34.143122
END:VEVENT
BEGIN:VEVENT
DTSTART;TZID=Australia/Sydney:20261025T083000
DTEND;TZID=Australia/Sydney:20261025T093000
DTSTAMP:20260420T094016
CREATED:20180927T043915Z
LAST-MODIFIED:20260311T013207Z
UID:10058-1792917000-1792920600@temora-msc.lutheran.org.au
SUMMARY:Worship Service - Zion\, Trungley Hall
DESCRIPTION:Holy Communion usually on the 2nd\, 3rd and 4th Sundays of the month.
URL:https://temora-msc.lutheran.org.au/event/worship-service-zion-trungley-hall-2020-03-22-2020-10-18-2021-05-16/2026-10-25/
LOCATION:Trungley Hall\, 71 Schuberts Rd\, Trungley Hall\, NSW\, 2666\, Australia
CATEGORIES:Worship
GEO:-34.287965;147.548457
X-APPLE-STRUCTURED-LOCATION;VALUE=URI;X-ADDRESS=Trungley Hall 71 Schuberts Rd Trungley Hall NSW 2666 Australia;X-APPLE-RADIUS=500;X-TITLE=71 Schuberts Rd:geo:147.548457,-34.287965
END:VEVENT
END:VCALENDAR