BEGIN:VCALENDAR
VERSION:2.0
PRODID:-//Temora Lutheran Community Church - ECPv6.8.1//NONSGML v1.0//EN
CALSCALE:GREGORIAN
METHOD:PUBLISH
X-WR-CALNAME:Temora Lutheran Community Church
X-ORIGINAL-URL:https://temora-msc.lutheran.org.au
X-WR-CALDESC:Events for Temora Lutheran Community Church
REFRESH-INTERVAL;VALUE=DURATION:PT1H
X-Robots-Tag:noindex
X-PUBLISHED-TTL:PT1H
BEGIN:VTIMEZONE
TZID:Australia/Sydney
BEGIN:STANDARD
TZOFFSETFROM:+1100
TZOFFSETTO:+1000
TZNAME:AEST
DTSTART:20270403T160000
END:STANDARD
BEGIN:DAYLIGHT
TZOFFSETFROM:+1000
TZOFFSETTO:+1100
TZNAME:AEDT
DTSTART:20271002T160000
END:DAYLIGHT
END:VTIMEZONE
BEGIN:VEVENT
DTSTART;TZID=Australia/Sydney:20270106T100000
DTEND;TZID=Australia/Sydney:20270106T130000
DTSTAMP:20260422T123739
CREATED:20241212T041004Z
LAST-MODIFIED:20241212T041004Z
UID:10318-1799229600-1799240400@temora-msc.lutheran.org.au
SUMMARY:FoodCare - Temora Open
DESCRIPTION:See our FoodCare page here
URL:https://temora-msc.lutheran.org.au/event/foodcare-temora/2027-01-06/
LOCATION:FoodCare – Temora\, 262 Hoskins Street\, Temora\, NSW\, 2666\, Australia
CATEGORIES:FoodCare
GEO:-34.449332;147.5343819
X-APPLE-STRUCTURED-LOCATION;VALUE=URI;X-ADDRESS=FoodCare – Temora 262 Hoskins Street Temora NSW 2666 Australia;X-APPLE-RADIUS=500;X-TITLE=262 Hoskins Street:geo:147.5343819,-34.449332
END:VEVENT
BEGIN:VEVENT
DTSTART;TZID=Australia/Sydney:20270107T100000
DTEND;TZID=Australia/Sydney:20270107T130000
DTSTAMP:20260422T123739
CREATED:20241212T041004Z
LAST-MODIFIED:20241212T041004Z
UID:10319-1799316000-1799326800@temora-msc.lutheran.org.au
SUMMARY:FoodCare - Temora Open
DESCRIPTION:See our FoodCare page here
URL:https://temora-msc.lutheran.org.au/event/foodcare-temora/2027-01-07/
LOCATION:FoodCare – Temora\, 262 Hoskins Street\, Temora\, NSW\, 2666\, Australia
CATEGORIES:FoodCare
GEO:-34.449332;147.5343819
X-APPLE-STRUCTURED-LOCATION;VALUE=URI;X-ADDRESS=FoodCare – Temora 262 Hoskins Street Temora NSW 2666 Australia;X-APPLE-RADIUS=500;X-TITLE=262 Hoskins Street:geo:147.5343819,-34.449332
END:VEVENT
BEGIN:VEVENT
DTSTART;TZID=Australia/Sydney:20270107T100000
DTEND;TZID=Australia/Sydney:20270107T130000
DTSTAMP:20260422T123739
CREATED:20241212T042254Z
LAST-MODIFIED:20241212T042254Z
UID:10329-1799316000-1799326800@temora-msc.lutheran.org.au
SUMMARY:FoodCare - Barmedman Open
DESCRIPTION:See our FoodCare page here
URL:https://temora-msc.lutheran.org.au/event/foodcare-barmedman/2027-01-07/
LOCATION:FoodCare – Barmedman\, Queen Street 76\, Barmedman\, NSW\, 2668\, Australia
CATEGORIES:FoodCare
GEO:-34.143122;147.3860399
X-APPLE-STRUCTURED-LOCATION;VALUE=URI;X-ADDRESS=FoodCare – Barmedman Queen Street 76 Barmedman NSW 2668 Australia;X-APPLE-RADIUS=500;X-TITLE=Queen Street 76:geo:147.3860399,-34.143122
END:VEVENT
BEGIN:VEVENT
DTSTART;TZID=Australia/Sydney:20270110T083000
DTEND;TZID=Australia/Sydney:20270110T093000
DTSTAMP:20260422T123739
CREATED:20190306T051829Z
LAST-MODIFIED:20190306T051829Z
UID:10303-1799569800-1799573400@temora-msc.lutheran.org.au
SUMMARY:Intergenerational GROW Service - Trungley Hall
DESCRIPTION:
URL:https://temora-msc.lutheran.org.au/event/intergenerational-grow-service-trungley-hall-2020-03-08/2027-01-10/
LOCATION:Trungley Hall\, 71 Schuberts Rd\, Trungley Hall\, NSW\, 2666\, Australia
CATEGORIES:Intergenerational,Worship
GEO:-34.287965;147.548457
X-APPLE-STRUCTURED-LOCATION;VALUE=URI;X-ADDRESS=Trungley Hall 71 Schuberts Rd Trungley Hall NSW 2666 Australia;X-APPLE-RADIUS=500;X-TITLE=71 Schuberts Rd:geo:147.548457,-34.287965
END:VEVENT
BEGIN:VEVENT
DTSTART;TZID=Australia/Sydney:20270110T103000
DTEND;TZID=Australia/Sydney:20270110T113000
DTSTAMP:20260422T123739
CREATED:20190316T051141Z
LAST-MODIFIED:20190316T051141Z
UID:10299-1799577000-1799580600@temora-msc.lutheran.org.au
SUMMARY:Intergenerational GROW Service - Trinity
DESCRIPTION:
URL:https://temora-msc.lutheran.org.au/event/intergenerational-grow-service-trinity/2027-01-10/
LOCATION:Trinity Lutheran Church\, 145 Loftus St\, Termora\, NSW\, 2666\, Australia
CATEGORIES:Intergenerational,Worship
ORGANIZER;CN="Pastor Darren":MAILTO:Darren.kupke@lca.org.au
END:VEVENT
END:VCALENDAR